BEGIN:VCALENDAR
VERSION:2.0
PRODID:-//Scecina Memorial High School - ECPv6.15.20//NONSGML v1.0//EN
CALSCALE:GREGORIAN
METHOD:PUBLISH
X-WR-CALNAME:Scecina Memorial High School
X-ORIGINAL-URL:https://www.scecina.org
X-WR-CALDESC:Events for Scecina Memorial High School
REFRESH-INTERVAL;VALUE=DURATION:PT1H
X-Robots-Tag:noindex
X-PUBLISHED-TTL:PT1H
BEGIN:VTIMEZONE
TZID:America/Indiana/Indianapolis
BEGIN:DAYLIGHT
TZOFFSETFROM:-0500
TZOFFSETTO:-0400
TZNAME:EDT
DTSTART:20240310T070000
END:DAYLIGHT
BEGIN:STANDARD
TZOFFSETFROM:-0400
TZOFFSETTO:-0500
TZNAME:EST
DTSTART:20241103T060000
END:STANDARD
BEGIN:DAYLIGHT
TZOFFSETFROM:-0500
TZOFFSETTO:-0400
TZNAME:EDT
DTSTART:20250309T070000
END:DAYLIGHT
BEGIN:STANDARD
TZOFFSETFROM:-0400
TZOFFSETTO:-0500
TZNAME:EST
DTSTART:20251102T060000
END:STANDARD
BEGIN:DAYLIGHT
TZOFFSETFROM:-0500
TZOFFSETTO:-0400
TZNAME:EDT
DTSTART:20260308T070000
END:DAYLIGHT
BEGIN:STANDARD
TZOFFSETFROM:-0400
TZOFFSETTO:-0500
TZNAME:EST
DTSTART:20261101T060000
END:STANDARD
END:VTIMEZONE
BEGIN:VEVENT
DTSTART;VALUE=DATE:20250113
DTEND;VALUE=DATE:20250114
DTSTAMP:20260420T050453
CREATED:20250107T211541Z
LAST-MODIFIED:20250107T211541Z
UID:10000467-1736726400-1736812799@www.scecina.org
SUMMARY:WIDA TESTING BEGINS
DESCRIPTION:WIDA testing is a series of English language proficiency assessments that helps Scecina educators identify students who are English language learners (ELLs) and determine the level of support they need. For questions regarding WIDA testing\, please contact Amy Fix\, afix@scecina.org.
URL:https://www.scecina.org/event/wida-testing-begins/
END:VEVENT
END:VCALENDAR