BEGIN:VCALENDAR
VERSION:2.0
PRODID:-//Scecina Memorial High School - ECPv6.15.20//NONSGML v1.0//EN
CALSCALE:GREGORIAN
METHOD:PUBLISH
X-WR-CALNAME:Scecina Memorial High School
X-ORIGINAL-URL:https://www.scecina.org
X-WR-CALDESC:Events for Scecina Memorial High School
REFRESH-INTERVAL;VALUE=DURATION:PT1H
X-Robots-Tag:noindex
X-PUBLISHED-TTL:PT1H
BEGIN:VTIMEZONE
TZID:America/Indiana/Indianapolis
BEGIN:DAYLIGHT
TZOFFSETFROM:-0500
TZOFFSETTO:-0400
TZNAME:EDT
DTSTART:20210314T070000
END:DAYLIGHT
BEGIN:STANDARD
TZOFFSETFROM:-0400
TZOFFSETTO:-0500
TZNAME:EST
DTSTART:20211107T060000
END:STANDARD
BEGIN:DAYLIGHT
TZOFFSETFROM:-0500
TZOFFSETTO:-0400
TZNAME:EDT
DTSTART:20220313T070000
END:DAYLIGHT
BEGIN:STANDARD
TZOFFSETFROM:-0400
TZOFFSETTO:-0500
TZNAME:EST
DTSTART:20221106T060000
END:STANDARD
BEGIN:DAYLIGHT
TZOFFSETFROM:-0500
TZOFFSETTO:-0400
TZNAME:EDT
DTSTART:20230312T070000
END:DAYLIGHT
BEGIN:STANDARD
TZOFFSETFROM:-0400
TZOFFSETTO:-0500
TZNAME:EST
DTSTART:20231105T060000
END:STANDARD
END:VTIMEZONE
BEGIN:VEVENT
DTSTART;VALUE=DATE:20221031
DTEND;VALUE=DATE:20221101
DTSTAMP:20260420T002048
CREATED:20220711T144540Z
LAST-MODIFIED:20220711T144540Z
UID:10000252-1667174400-1667260799@www.scecina.org
SUMMARY:Halloween
DESCRIPTION:
URL:https://www.scecina.org/event/halloween/
END:VEVENT
BEGIN:VEVENT
DTSTART;TZID=America/Indiana/Indianapolis:20221026T103000
DTEND;TZID=America/Indiana/Indianapolis:20221026T120000
DTSTAMP:20260420T002048
CREATED:20220505T192804Z
LAST-MODIFIED:20220505T192804Z
UID:10000210-1666780200-1666785600@www.scecina.org
SUMMARY:Senior Mass with Archbishop
DESCRIPTION:Mass for seniors from the Class of 2023 from all Archdiocese of Indianapolis high schools.
URL:https://www.scecina.org/event/senior-mass-with-archbishop/
END:VEVENT
BEGIN:VEVENT
DTSTART;VALUE=DATE:20221025
DTEND;VALUE=DATE:20221026
DTSTAMP:20260420T002048
CREATED:20220711T144509Z
LAST-MODIFIED:20220711T144509Z
UID:10000251-1666656000-1666742399@www.scecina.org
SUMMARY:PSAT & Pre-ACT for grades 9\, 10\, 11; College Visit for grade 12
DESCRIPTION:PSAT and Pre-ACT information\nBelow is information regarding Pre-ACT and PSAT testing on Tuesday\, October 25. Parents\, please look for additional and specific student information via email from Kalynn Huntoon\, khuntoon@scecina.org. \nGrade 9 – Freshman students \n\nSchool Begins at 8:05 a.m.\, and students go to the assigned testing room\nPre-ACT Standard time ends at approximately 12:30 p.m.\nPre-ACT Extended time ends at approximately 1:30 p.m.\nStudents are dismissed from school at end of testing time.\n\nGrades 10 and 11 – Sophomore and Junior students \n\nSchool Begins at 8:05 a.m.\, and students go to the assigned testing room\nPSAT Standard time ends at approximately 12:45 p.m.\nPSAT Extended time ends at approximately 2:15 p.m.\nStudents are dismissed from school at end of testing time.\n\nWe encourage students to bring a water bottle and eat a good breakfast at home or at school. Good luck to all! \nSenior College Visit/Job Shadow Day \nCollege Visit or Job Shadow Day for the Class of 2023. Seniors will complete a survey about their day in Canvas for attendance to count as excused. The survey is due on October 25. \nParents\, please look for additional specific student information via email from Kalynn Huntoon\, khuntoon@scecina.org.
URL:https://www.scecina.org/event/psat-college-visit-for-grade-12/
END:VEVENT
BEGIN:VEVENT
DTSTART;VALUE=DATE:20221022
DTEND;VALUE=DATE:20221023
DTSTAMP:20260420T002048
CREATED:20220711T144319Z
LAST-MODIFIED:20220711T144319Z
UID:10000250-1666396800-1666483199@www.scecina.org
SUMMARY:Fall Play
DESCRIPTION:More details to come
URL:https://www.scecina.org/event/fall-play-8/
END:VEVENT
BEGIN:VEVENT
DTSTART;VALUE=DATE:20221021
DTEND;VALUE=DATE:20221022
DTSTAMP:20260420T002048
CREATED:20220711T144036Z
LAST-MODIFIED:20220711T144036Z
UID:10000249-1666310400-1666396799@www.scecina.org
SUMMARY:Fall Play
DESCRIPTION:More details to come
URL:https://www.scecina.org/event/fall-play-7/
END:VEVENT
BEGIN:VEVENT
DTSTART;VALUE=DATE:20221020
DTEND;VALUE=DATE:20221021
DTSTAMP:20260420T002048
CREATED:20220711T143920Z
LAST-MODIFIED:20220711T143920Z
UID:10000248-1666224000-1666310399@www.scecina.org
SUMMARY:Fall Play
DESCRIPTION:More details to come
URL:https://www.scecina.org/event/fall-play-6/
END:VEVENT
BEGIN:VEVENT
DTSTART;VALUE=DATE:20221014
DTEND;VALUE=DATE:20221015
DTSTAMP:20260420T002048
CREATED:20220711T142210Z
LAST-MODIFIED:20220711T142210Z
UID:10000247-1665705600-1665791999@www.scecina.org
SUMMARY:Fall Break (No Classes)
DESCRIPTION:
URL:https://www.scecina.org/event/fall-break-no-classes-5/
END:VEVENT
BEGIN:VEVENT
DTSTART;VALUE=DATE:20221013
DTEND;VALUE=DATE:20221014
DTSTAMP:20260420T002048
CREATED:20220711T142138Z
LAST-MODIFIED:20220711T142138Z
UID:10000246-1665619200-1665705599@www.scecina.org
SUMMARY:Fall Break (No Classes)
DESCRIPTION:
URL:https://www.scecina.org/event/fall-break-no-classes-4/
END:VEVENT
BEGIN:VEVENT
DTSTART;VALUE=DATE:20221012
DTEND;VALUE=DATE:20221013
DTSTAMP:20260420T002048
CREATED:20220711T142056Z
LAST-MODIFIED:20220711T142056Z
UID:10000245-1665532800-1665619199@www.scecina.org
SUMMARY:Fall Break (No Classes)
DESCRIPTION:
URL:https://www.scecina.org/event/fall-break-no-classes-3/
END:VEVENT
BEGIN:VEVENT
DTSTART;VALUE=DATE:20221011
DTEND;VALUE=DATE:20221012
DTSTAMP:20260420T002048
CREATED:20220711T142020Z
LAST-MODIFIED:20220711T142020Z
UID:10000244-1665446400-1665532799@www.scecina.org
SUMMARY:Fall Break (No Classes)
DESCRIPTION:
URL:https://www.scecina.org/event/fall-break-no-classes-2/
END:VEVENT
BEGIN:VEVENT
DTSTART;VALUE=DATE:20221010
DTEND;VALUE=DATE:20221011
DTSTAMP:20260420T002048
CREATED:20220711T141822Z
LAST-MODIFIED:20220711T141822Z
UID:10000243-1665360000-1665446399@www.scecina.org
SUMMARY:Fall Break (No Classes)
DESCRIPTION:
URL:https://www.scecina.org/event/fall-break-no-classes/
END:VEVENT
BEGIN:VEVENT
DTSTART;TZID=America/Indiana/Indianapolis:20221009T140000
DTEND;TZID=America/Indiana/Indianapolis:20221009T160000
DTSTAMP:20260420T002048
CREATED:20221007T140309Z
LAST-MODIFIED:20221007T140309Z
UID:10000265-1665324000-1665331200@www.scecina.org
SUMMARY:New Horizons Concert
DESCRIPTION:New Horizons Band will perform at Scecina Memorial High School on October 9 at 2 p.m. All are welcome to attend and hear selections from The Sound of Music\, Sentimental Journey\, Anything Goes\, and a rousing rendition of Duty\, Honor\, Country\, honoring Scecina Memorial High School’s namesake Father Tom Scecina. The concert is free.
URL:https://www.scecina.org/event/new-horizons-concert/
END:VEVENT
BEGIN:VEVENT
DTSTART;VALUE=DATE:20221008
DTEND;VALUE=DATE:20221009
DTSTAMP:20260420T002048
CREATED:20220711T141730Z
LAST-MODIFIED:20220711T141730Z
UID:10000242-1665187200-1665273599@www.scecina.org
SUMMARY:High School Placement Test
DESCRIPTION:
URL:https://www.scecina.org/event/high-school-placement-test-5/
END:VEVENT
BEGIN:VEVENT
DTSTART;VALUE=DATE:20221007
DTEND;VALUE=DATE:20221008
DTSTAMP:20260420T002048
CREATED:20220711T141522Z
LAST-MODIFIED:20220711T141522Z
UID:10000241-1665100800-1665187199@www.scecina.org
SUMMARY:Junior TLC Crazy Friday
DESCRIPTION:
URL:https://www.scecina.org/event/junior-tlc-crazy-friday/
END:VEVENT
BEGIN:VEVENT
DTSTART;VALUE=DATE:20221007
DTEND;VALUE=DATE:20221008
DTSTAMP:20260420T002048
CREATED:20220711T141436Z
LAST-MODIFIED:20220711T141436Z
UID:10000240-1665100800-1665187199@www.scecina.org
SUMMARY:Senior Retreat #1
DESCRIPTION:
URL:https://www.scecina.org/event/senior-retreat-1-4/
END:VEVENT
BEGIN:VEVENT
DTSTART;VALUE=DATE:20221006
DTEND;VALUE=DATE:20221007
DTSTAMP:20260420T002048
CREATED:20220711T141400Z
LAST-MODIFIED:20220711T141400Z
UID:10000239-1665014400-1665100799@www.scecina.org
SUMMARY:Senior Retreat #1
DESCRIPTION:
URL:https://www.scecina.org/event/senior-retreat-1-3/
END:VEVENT
BEGIN:VEVENT
DTSTART;VALUE=DATE:20221005
DTEND;VALUE=DATE:20221006
DTSTAMP:20260420T002048
CREATED:20220711T141308Z
LAST-MODIFIED:20220711T141308Z
UID:10000238-1664928000-1665014399@www.scecina.org
SUMMARY:Senior Retreat #1
DESCRIPTION:
URL:https://www.scecina.org/event/senior-retreat-1-2/
END:VEVENT
BEGIN:VEVENT
DTSTART;VALUE=DATE:20221004
DTEND;VALUE=DATE:20221005
DTSTAMP:20260420T002048
CREATED:20220711T141216Z
LAST-MODIFIED:20220711T141216Z
UID:10000237-1664841600-1664927999@www.scecina.org
SUMMARY:Senior Retreat #1
DESCRIPTION:
URL:https://www.scecina.org/event/senior-retreat-1/
END:VEVENT
BEGIN:VEVENT
DTSTART;VALUE=DATE:20220930
DTEND;VALUE=DATE:20221001
DTSTAMP:20260420T002048
CREATED:20220705T192542Z
LAST-MODIFIED:20220705T192542Z
UID:10000236-1664496000-1664582399@www.scecina.org
SUMMARY:End of 1st Quarter
DESCRIPTION:
URL:https://www.scecina.org/event/end-of-1st-quarter-2/
END:VEVENT
BEGIN:VEVENT
DTSTART;VALUE=DATE:20220928
DTEND;VALUE=DATE:20220929
DTSTAMP:20260420T002048
CREATED:20220705T190618Z
LAST-MODIFIED:20220705T190618Z
UID:10000235-1664323200-1664409599@www.scecina.org
SUMMARY:Sacred Music Concert
DESCRIPTION:More information to come
URL:https://www.scecina.org/event/sacred-music-concert-2/
END:VEVENT
BEGIN:VEVENT
DTSTART;VALUE=DATE:20220926
DTEND;VALUE=DATE:20220927
DTSTAMP:20260420T002048
CREATED:20220705T190457Z
LAST-MODIFIED:20220705T190457Z
UID:10000234-1664150400-1664236799@www.scecina.org
SUMMARY:Sophomore Hearing Screening
DESCRIPTION:
URL:https://www.scecina.org/event/sophomore-hearing-screening-2/
END:VEVENT
BEGIN:VEVENT
DTSTART;VALUE=DATE:20220923
DTEND;VALUE=DATE:20220924
DTSTAMP:20260420T002048
CREATED:20220705T190328Z
LAST-MODIFIED:20220705T190328Z
UID:10000233-1663891200-1663977599@www.scecina.org
SUMMARY:INPAC
DESCRIPTION:
URL:https://www.scecina.org/event/inpac-2/
END:VEVENT
BEGIN:VEVENT
DTSTART;VALUE=DATE:20220922
DTEND;VALUE=DATE:20220923
DTSTAMP:20260420T002048
CREATED:20220705T190259Z
LAST-MODIFIED:20220705T190259Z
UID:10000232-1663804800-1663891199@www.scecina.org
SUMMARY:INPAC
DESCRIPTION:
URL:https://www.scecina.org/event/inpac/
END:VEVENT
BEGIN:VEVENT
DTSTART;TZID=America/Indiana/Indianapolis:20220916T190000
DTEND;TZID=America/Indiana/Indianapolis:20220916T190000
DTSTAMP:20260420T002048
CREATED:20220705T190111Z
LAST-MODIFIED:20220705T190111Z
UID:10000231-1663354800-1663354800@www.scecina.org
SUMMARY:Homecoming
DESCRIPTION:The Crusaders football team will play Heritage Christian at Beech Grove High School at 7:00 p.m.
URL:https://www.scecina.org/event/homecoming-3/
END:VEVENT
BEGIN:VEVENT
DTSTART;VALUE=DATE:20220912
DTEND;VALUE=DATE:20220913
DTSTAMP:20260420T002048
CREATED:20220705T184425Z
LAST-MODIFIED:20220705T184425Z
UID:10000229-1662940800-1663027199@www.scecina.org
SUMMARY:ASVAB for grades 11 and 12
DESCRIPTION:
URL:https://www.scecina.org/event/asvab-for-grades-11-and-12/
END:VEVENT
BEGIN:VEVENT
DTSTART;VALUE=DATE:20220908
DTEND;VALUE=DATE:20220909
DTSTAMP:20260420T002048
CREATED:20220705T184238Z
LAST-MODIFIED:20220705T184238Z
UID:10000228-1662595200-1662681599@www.scecina.org
SUMMARY:Progress Report Night
DESCRIPTION:More information to come
URL:https://www.scecina.org/event/progress-report-night-6/
END:VEVENT
BEGIN:VEVENT
DTSTART;VALUE=DATE:20220905
DTEND;VALUE=DATE:20220906
DTSTAMP:20260420T002048
CREATED:20220705T184153Z
LAST-MODIFIED:20220705T184153Z
UID:10000227-1662336000-1662422399@www.scecina.org
SUMMARY:Labor Day
DESCRIPTION:No Classes
URL:https://www.scecina.org/event/labor-day-2/
END:VEVENT
BEGIN:VEVENT
DTSTART;VALUE=DATE:20220901
DTEND;VALUE=DATE:20220902
DTSTAMP:20260420T002048
CREATED:20220705T185308Z
LAST-MODIFIED:20220705T185308Z
UID:10000230-1661990400-1662076799@www.scecina.org
SUMMARY:Application for Admission Opens | Class of 2027
DESCRIPTION:
URL:https://www.scecina.org/event/application-for-admission-opens-class-of-2027-2/
END:VEVENT
BEGIN:VEVENT
DTSTART;VALUE=DATE:20220901
DTEND;VALUE=DATE:20220902
DTSTAMP:20260420T002048
CREATED:20220705T184054Z
LAST-MODIFIED:20220705T184054Z
UID:10000226-1661990400-1662076799@www.scecina.org
SUMMARY:Early Dismissal | Teacher Professional Development Day
DESCRIPTION:
URL:https://www.scecina.org/event/early-dismissal-teacher-professional-development-day/
END:VEVENT
BEGIN:VEVENT
DTSTART;VALUE=DATE:20220901
DTEND;VALUE=DATE:20220902
DTSTAMP:20260420T002048
CREATED:20220705T183809Z
LAST-MODIFIED:20220705T183809Z
UID:10000225-1661990400-1662076799@www.scecina.org
SUMMARY:Deadline to Apply for School Choice Voucher | 1st Semester
DESCRIPTION:
URL:https://www.scecina.org/event/deadline-to-apply-for-school-choice-voucher-1st-semester/
END:VEVENT
END:VCALENDAR