BEGIN:VCALENDAR
VERSION:2.0
PRODID:-//Scecina Memorial High School - ECPv6.15.20//NONSGML v1.0//EN
CALSCALE:GREGORIAN
METHOD:PUBLISH
X-WR-CALNAME:Scecina Memorial High School
X-ORIGINAL-URL:https://www.scecina.org
X-WR-CALDESC:Events for Scecina Memorial High School
REFRESH-INTERVAL;VALUE=DURATION:PT1H
X-Robots-Tag:noindex
X-PUBLISHED-TTL:PT1H
BEGIN:VTIMEZONE
TZID:America/Indiana/Indianapolis
BEGIN:DAYLIGHT
TZOFFSETFROM:-0500
TZOFFSETTO:-0400
TZNAME:EDT
DTSTART:20210314T070000
END:DAYLIGHT
BEGIN:STANDARD
TZOFFSETFROM:-0400
TZOFFSETTO:-0500
TZNAME:EST
DTSTART:20211107T060000
END:STANDARD
BEGIN:DAYLIGHT
TZOFFSETFROM:-0500
TZOFFSETTO:-0400
TZNAME:EDT
DTSTART:20220313T070000
END:DAYLIGHT
BEGIN:STANDARD
TZOFFSETFROM:-0400
TZOFFSETTO:-0500
TZNAME:EST
DTSTART:20221106T060000
END:STANDARD
BEGIN:DAYLIGHT
TZOFFSETFROM:-0500
TZOFFSETTO:-0400
TZNAME:EDT
DTSTART:20230312T070000
END:DAYLIGHT
BEGIN:STANDARD
TZOFFSETFROM:-0400
TZOFFSETTO:-0500
TZNAME:EST
DTSTART:20231105T060000
END:STANDARD
END:VTIMEZONE
BEGIN:VEVENT
DTSTART;VALUE=DATE:20220922
DTEND;VALUE=DATE:20220923
DTSTAMP:20260420T184538
CREATED:20220705T190259Z
LAST-MODIFIED:20220705T190259Z
UID:10000232-1663804800-1663891199@www.scecina.org
SUMMARY:INPAC
DESCRIPTION:
URL:https://www.scecina.org/event/inpac/
END:VEVENT
BEGIN:VEVENT
DTSTART;TZID=America/Indiana/Indianapolis:20220916T190000
DTEND;TZID=America/Indiana/Indianapolis:20220916T190000
DTSTAMP:20260420T184538
CREATED:20220705T190111Z
LAST-MODIFIED:20220705T190111Z
UID:10000231-1663354800-1663354800@www.scecina.org
SUMMARY:Homecoming
DESCRIPTION:The Crusaders football team will play Heritage Christian at Beech Grove High School at 7:00 p.m.
URL:https://www.scecina.org/event/homecoming-3/
END:VEVENT
BEGIN:VEVENT
DTSTART;VALUE=DATE:20220912
DTEND;VALUE=DATE:20220913
DTSTAMP:20260420T184538
CREATED:20220705T184425Z
LAST-MODIFIED:20220705T184425Z
UID:10000229-1662940800-1663027199@www.scecina.org
SUMMARY:ASVAB for grades 11 and 12
DESCRIPTION:
URL:https://www.scecina.org/event/asvab-for-grades-11-and-12/
END:VEVENT
BEGIN:VEVENT
DTSTART;VALUE=DATE:20220908
DTEND;VALUE=DATE:20220909
DTSTAMP:20260420T184538
CREATED:20220705T184238Z
LAST-MODIFIED:20220705T184238Z
UID:10000228-1662595200-1662681599@www.scecina.org
SUMMARY:Progress Report Night
DESCRIPTION:More information to come
URL:https://www.scecina.org/event/progress-report-night-6/
END:VEVENT
BEGIN:VEVENT
DTSTART;VALUE=DATE:20220905
DTEND;VALUE=DATE:20220906
DTSTAMP:20260420T184538
CREATED:20220705T184153Z
LAST-MODIFIED:20220705T184153Z
UID:10000227-1662336000-1662422399@www.scecina.org
SUMMARY:Labor Day
DESCRIPTION:No Classes
URL:https://www.scecina.org/event/labor-day-2/
END:VEVENT
BEGIN:VEVENT
DTSTART;VALUE=DATE:20220901
DTEND;VALUE=DATE:20220902
DTSTAMP:20260420T184538
CREATED:20220705T185308Z
LAST-MODIFIED:20220705T185308Z
UID:10000230-1661990400-1662076799@www.scecina.org
SUMMARY:Application for Admission Opens | Class of 2027
DESCRIPTION:
URL:https://www.scecina.org/event/application-for-admission-opens-class-of-2027-2/
END:VEVENT
BEGIN:VEVENT
DTSTART;VALUE=DATE:20220901
DTEND;VALUE=DATE:20220902
DTSTAMP:20260420T184538
CREATED:20220705T184054Z
LAST-MODIFIED:20220705T184054Z
UID:10000226-1661990400-1662076799@www.scecina.org
SUMMARY:Early Dismissal | Teacher Professional Development Day
DESCRIPTION:
URL:https://www.scecina.org/event/early-dismissal-teacher-professional-development-day/
END:VEVENT
BEGIN:VEVENT
DTSTART;VALUE=DATE:20220901
DTEND;VALUE=DATE:20220902
DTSTAMP:20260420T184538
CREATED:20220705T183809Z
LAST-MODIFIED:20220705T183809Z
UID:10000225-1661990400-1662076799@www.scecina.org
SUMMARY:Deadline to Apply for School Choice Voucher | 1st Semester
DESCRIPTION:
URL:https://www.scecina.org/event/deadline-to-apply-for-school-choice-voucher-1st-semester/
END:VEVENT
BEGIN:VEVENT
DTSTART;VALUE=DATE:20220824
DTEND;VALUE=DATE:20220825
DTSTAMP:20260420T184538
CREATED:20220705T183505Z
LAST-MODIFIED:20220705T183505Z
UID:10000224-1661299200-1661385599@www.scecina.org
SUMMARY:Meet the Teacher Night
DESCRIPTION:More information to come
URL:https://www.scecina.org/event/meet-the-teacher-night-2/
END:VEVENT
BEGIN:VEVENT
DTSTART;VALUE=DATE:20220815
DTEND;VALUE=DATE:20220816
DTSTAMP:20260420T184538
CREATED:20220705T183402Z
LAST-MODIFIED:20220705T183402Z
UID:10000223-1660521600-1660607999@www.scecina.org
SUMMARY:First All School Mass Celebrating The Assumption of the Blessed Virgin Mary
DESCRIPTION:
URL:https://www.scecina.org/event/the-assumption-of-the-blessed-virgin-mary/
END:VEVENT
BEGIN:VEVENT
DTSTART;VALUE=DATE:20220809
DTEND;VALUE=DATE:20220810
DTSTAMP:20260420T184538
CREATED:20220705T183232Z
LAST-MODIFIED:20220705T183232Z
UID:10000222-1660003200-1660089599@www.scecina.org
SUMMARY:First Day of Classes
DESCRIPTION:
URL:https://www.scecina.org/event/first-day-of-classes/
END:VEVENT
BEGIN:VEVENT
DTSTART;TZID=America/Indiana/Indianapolis:20220808T083000
DTEND;TZID=America/Indiana/Indianapolis:20220808T163000
DTSTAMP:20260420T184538
CREATED:20220705T183139Z
LAST-MODIFIED:20220705T183139Z
UID:10000221-1659947400-1659976200@www.scecina.org
SUMMARY:Staff Professional Development
DESCRIPTION:
URL:https://www.scecina.org/event/staff-professional-development-5/
END:VEVENT
BEGIN:VEVENT
DTSTART;TZID=America/Indiana/Indianapolis:20220805T083000
DTEND;TZID=America/Indiana/Indianapolis:20220805T163000
DTSTAMP:20260420T184538
CREATED:20220705T181928Z
LAST-MODIFIED:20220705T181928Z
UID:10000217-1659688200-1659717000@www.scecina.org
SUMMARY:Staff Professional Development
DESCRIPTION:
URL:https://www.scecina.org/event/staff-professional-development-4/
END:VEVENT
BEGIN:VEVENT
DTSTART;TZID=America/Indiana/Indianapolis:20220804T180000
DTEND;TZID=America/Indiana/Indianapolis:20220804T193000
DTSTAMP:20260420T184538
CREATED:20220705T182149Z
LAST-MODIFIED:20220705T182149Z
UID:10000219-1659636000-1659641400@www.scecina.org
SUMMARY:New Parent Orientation | Spanish
DESCRIPTION:Cafeteria
URL:https://www.scecina.org/event/new-parent-orientation-spanish/
END:VEVENT
BEGIN:VEVENT
DTSTART;TZID=America/Indiana/Indianapolis:20220804T103000
DTEND;TZID=America/Indiana/Indianapolis:20220804T173000
DTSTAMP:20260420T184538
CREATED:20220705T182419Z
LAST-MODIFIED:20220705T182419Z
UID:10000220-1659609000-1659634200@www.scecina.org
SUMMARY:New Student Orientation
DESCRIPTION:Arrival | 10:30 a.m. – 11:00 a.m. \nCookout | 11:00 a.m. – 12:00 p.m. \nOrientation | 12:00p.m. – 5:00 p.m. \nPick up | 5:00 p.m. – 5:30 p.m.
URL:https://www.scecina.org/event/new-student-orientation-3/
END:VEVENT
BEGIN:VEVENT
DTSTART;TZID=America/Indiana/Indianapolis:20220804T083000
DTEND;TZID=America/Indiana/Indianapolis:20220804T163000
DTSTAMP:20260420T184538
CREATED:20220705T181843Z
LAST-MODIFIED:20220705T181843Z
UID:10000216-1659601800-1659630600@www.scecina.org
SUMMARY:Staff Professional Development
DESCRIPTION:
URL:https://www.scecina.org/event/staff-professional-development-3/
END:VEVENT
BEGIN:VEVENT
DTSTART;TZID=America/Indiana/Indianapolis:20220803T163000
DTEND;TZID=America/Indiana/Indianapolis:20220803T180000
DTSTAMP:20260420T184538
CREATED:20220705T182048Z
LAST-MODIFIED:20220705T182048Z
UID:10000218-1659544200-1659549600@www.scecina.org
SUMMARY:New Parent Orientation | English
DESCRIPTION:Cafeteria
URL:https://www.scecina.org/event/new-parent-orientation-english/
END:VEVENT
BEGIN:VEVENT
DTSTART;TZID=America/Indiana/Indianapolis:20220803T083000
DTEND;TZID=America/Indiana/Indianapolis:20220803T163000
DTSTAMP:20260420T184538
CREATED:20220705T180802Z
LAST-MODIFIED:20220705T180802Z
UID:10000215-1659515400-1659544200@www.scecina.org
SUMMARY:Staff Professional Development
DESCRIPTION:
URL:https://www.scecina.org/event/staff-professional-development-2/
END:VEVENT
BEGIN:VEVENT
DTSTART;TZID=America/Indiana/Indianapolis:20220802T090000
DTEND;TZID=America/Indiana/Indianapolis:20220802T150000
DTSTAMP:20260420T184538
CREATED:20220705T180711Z
LAST-MODIFIED:20220705T180711Z
UID:10000214-1659430800-1659452400@www.scecina.org
SUMMARY:Staff Catechesis
DESCRIPTION:
URL:https://www.scecina.org/event/staff-catechesis/
END:VEVENT
BEGIN:VEVENT
DTSTART;TZID=America/Indiana/Indianapolis:20220801T083000
DTEND;TZID=America/Indiana/Indianapolis:20220801T163000
DTSTAMP:20260420T184539
CREATED:20220705T180547Z
LAST-MODIFIED:20220705T180547Z
UID:10000213-1659342600-1659371400@www.scecina.org
SUMMARY:Staff Professional Development
DESCRIPTION:
URL:https://www.scecina.org/event/staff-professional-development/
END:VEVENT
BEGIN:VEVENT
DTSTART;VALUE=DATE:20220727
DTEND;VALUE=DATE:20220728
DTSTAMP:20260420T184539
CREATED:20220721T165821Z
LAST-MODIFIED:20220721T165821Z
UID:10000264-1658880000-1658966399@www.scecina.org
SUMMARY:Student Ambassador Training
DESCRIPTION:11:30am in the cafeteria
URL:https://www.scecina.org/event/student-ambassador-training/
END:VEVENT
BEGIN:VEVENT
DTSTART;VALUE=DATE:20220704
DTEND;VALUE=DATE:20220705
DTSTAMP:20260420T184539
CREATED:20220705T180354Z
LAST-MODIFIED:20220705T180354Z
UID:10000212-1656892800-1656979199@www.scecina.org
SUMMARY:Independence Day
DESCRIPTION:
URL:https://www.scecina.org/event/independence-day/
END:VEVENT
BEGIN:VEVENT
DTSTART;VALUE=DATE:20220703
DTEND;VALUE=DATE:20220711
DTSTAMP:20260420T184539
CREATED:20220705T180218Z
LAST-MODIFIED:20220705T180218Z
UID:10000211-1656806400-1657497599@www.scecina.org
SUMMARY:Athletic Moratorium
DESCRIPTION:During this seven-day period\, no contact between athletes and coaches\, no athletic activities\, including conditioning\, are to be conducted.
URL:https://www.scecina.org/event/athletic-moratorium/
END:VEVENT
BEGIN:VEVENT
DTSTART;TZID=America/Indiana/Indianapolis:20220527T090000
DTEND;TZID=America/Indiana/Indianapolis:20220527T100000
DTSTAMP:20260420T184539
CREATED:20220427T131837Z
LAST-MODIFIED:20220427T131837Z
UID:10000207-1653642000-1653645600@www.scecina.org
SUMMARY:Commencement Rehearsal
DESCRIPTION:Scecina Gymnasium
URL:https://www.scecina.org/event/commencement-rehearsal/
END:VEVENT
BEGIN:VEVENT
DTSTART;VALUE=DATE:20220527
DTEND;VALUE=DATE:20220528
DTSTAMP:20260420T184539
CREATED:20210702T150234Z
LAST-MODIFIED:20210702T150234Z
UID:10000147-1653609600-1653695999@www.scecina.org
SUMMARY:Last Day of Classes
DESCRIPTION:
URL:https://www.scecina.org/event/last-day-of-classes/
CATEGORIES:Academic
END:VEVENT
BEGIN:VEVENT
DTSTART;TZID=America/Indiana/Indianapolis:20220526T190000
DTEND;TZID=America/Indiana/Indianapolis:20220526T200000
DTSTAMP:20260420T184539
CREATED:20220426T134500Z
LAST-MODIFIED:20220426T134500Z
UID:10000203-1653591600-1653595200@www.scecina.org
SUMMARY:Baccalaureate Mass
DESCRIPTION:Little Flower Catholic Church
URL:https://www.scecina.org/event/baccalaureate-mass/
END:VEVENT
BEGIN:VEVENT
DTSTART;TZID=America/Indiana/Indianapolis:20220526T123000
DTEND;TZID=America/Indiana/Indianapolis:20220526T140000
DTSTAMP:20260420T184539
CREATED:20220427T131728Z
LAST-MODIFIED:20220427T131728Z
UID:10000206-1653568200-1653573600@www.scecina.org
SUMMARY:Baccalaureate Rehearsal
DESCRIPTION:Little Flower Church
URL:https://www.scecina.org/event/baccalaureate-rehearsal/
END:VEVENT
BEGIN:VEVENT
DTSTART;TZID=America/Indiana/Indianapolis:20220525T133000
DTEND;TZID=America/Indiana/Indianapolis:20220525T150000
DTSTAMP:20260420T184539
CREATED:20220427T131522Z
LAST-MODIFIED:20220427T131522Z
UID:10000205-1653485400-1653490800@www.scecina.org
SUMMARY:Senior Awards Day
DESCRIPTION:Scecina Gymnasium
URL:https://www.scecina.org/event/senior-awards-day-2/
END:VEVENT
BEGIN:VEVENT
DTSTART;TZID=America/Indiana/Indianapolis:20220525T111500
DTEND;TZID=America/Indiana/Indianapolis:20220525T130000
DTSTAMP:20260420T184539
CREATED:20220427T125630Z
LAST-MODIFIED:20220427T125630Z
UID:10000204-1653477300-1653483600@www.scecina.org
SUMMARY:Senior Cookout
DESCRIPTION:weather permitting
URL:https://www.scecina.org/event/senior-cookout/
END:VEVENT
BEGIN:VEVENT
DTSTART;TZID=America/Indiana/Indianapolis:20220520T100000
DTEND;TZID=America/Indiana/Indianapolis:20220520T113000
DTSTAMP:20260420T184539
CREATED:20220426T133539Z
LAST-MODIFIED:20220426T133539Z
UID:10000201-1653040800-1653046200@www.scecina.org
SUMMARY:Campus Crusade
DESCRIPTION:We are walking together on May 20 to support ministries at Scecina. Dismissal will be at noon.
URL:https://www.scecina.org/event/campus-crusade-2/
END:VEVENT
END:VCALENDAR