BEGIN:VCALENDAR
VERSION:2.0
PRODID:-//Scecina Memorial High School - ECPv6.15.20//NONSGML v1.0//EN
CALSCALE:GREGORIAN
METHOD:PUBLISH
X-WR-CALNAME:Scecina Memorial High School
X-ORIGINAL-URL:https://www.scecina.org
X-WR-CALDESC:Events for Scecina Memorial High School
REFRESH-INTERVAL;VALUE=DURATION:PT1H
X-Robots-Tag:noindex
X-PUBLISHED-TTL:PT1H
BEGIN:VTIMEZONE
TZID:America/Indiana/Indianapolis
BEGIN:DAYLIGHT
TZOFFSETFROM:-0500
TZOFFSETTO:-0400
TZNAME:EDT
DTSTART:20200308T070000
END:DAYLIGHT
BEGIN:STANDARD
TZOFFSETFROM:-0400
TZOFFSETTO:-0500
TZNAME:EST
DTSTART:20201101T060000
END:STANDARD
BEGIN:DAYLIGHT
TZOFFSETFROM:-0500
TZOFFSETTO:-0400
TZNAME:EDT
DTSTART:20210314T070000
END:DAYLIGHT
BEGIN:STANDARD
TZOFFSETFROM:-0400
TZOFFSETTO:-0500
TZNAME:EST
DTSTART:20211107T060000
END:STANDARD
BEGIN:DAYLIGHT
TZOFFSETFROM:-0500
TZOFFSETTO:-0400
TZNAME:EDT
DTSTART:20220313T070000
END:DAYLIGHT
BEGIN:STANDARD
TZOFFSETFROM:-0400
TZOFFSETTO:-0500
TZNAME:EST
DTSTART:20221106T060000
END:STANDARD
END:VTIMEZONE
BEGIN:VEVENT
DTSTART;TZID=America/Indiana/Indianapolis:20211111T190000
DTEND;TZID=America/Indiana/Indianapolis:20211111T204500
DTSTAMP:20260421T003620
CREATED:20211028T183911Z
LAST-MODIFIED:20211028T183911Z
UID:10000177-1636657200-1636663500@www.scecina.org
SUMMARY:Fall Play
DESCRIPTION:Scecina’s Theatre Department presents “A Wrinkle in Time” \nLocation: 111 S/ Downey Avenue Christian Church\, Indianapolis\, IN 46203 \nTickets: $10 adult admission\, $5 Scecina student\, free admission for grade-school age student.
URL:https://www.scecina.org/event/fall-play-5/
END:VEVENT
BEGIN:VEVENT
DTSTART;VALUE=DATE:20211105
DTEND;VALUE=DATE:20211108
DTSTAMP:20260421T003620
CREATED:20211015T205543Z
LAST-MODIFIED:20211015T205543Z
UID:10000175-1636070400-1636329599@www.scecina.org
SUMMARY:Gym Floor Refinishing
DESCRIPTION:The gym will be closed for floor refinishing.
URL:https://www.scecina.org/event/gym-floor-refinishing/
END:VEVENT
BEGIN:VEVENT
DTSTART;VALUE=DATE:20211105
DTEND;VALUE=DATE:20211106
DTSTAMP:20260421T003620
CREATED:20210901T205006Z
LAST-MODIFIED:20210901T205006Z
UID:10000158-1636070400-1636156799@www.scecina.org
SUMMARY:Crazy Friday
DESCRIPTION:For a $2 donation\, students can dress out. ​All funds donated help Senior StuCo adopt a family in need for Christmas. Students can wear school-appropriate attire. No ripped jeans\, crop tops\, tank tops\, flip-flops.
URL:https://www.scecina.org/event/crazy-friday-12/
END:VEVENT
BEGIN:VEVENT
DTSTART;TZID=America/Indiana/Indianapolis:20211026T083000
DTEND;TZID=America/Indiana/Indianapolis:20211026T151000
DTSTAMP:20260421T003620
CREATED:20211006T192937Z
LAST-MODIFIED:20211006T192937Z
UID:10000167-1635237000-1635261000@www.scecina.org
SUMMARY:PSAT and PreAct for freshmen\, sophomores\, juniors
DESCRIPTION:
URL:https://www.scecina.org/event/psat-and-preact-for-freshmen-sophomores-juniors/
END:VEVENT
BEGIN:VEVENT
DTSTART;TZID=America/Indiana/Indianapolis:20211026T080000
DTEND;TZID=America/Indiana/Indianapolis:20211026T170000
DTSTAMP:20260421T003620
CREATED:20211006T193022Z
LAST-MODIFIED:20211006T193022Z
UID:10000168-1635235200-1635267600@www.scecina.org
SUMMARY:College Visit Day for seniors
DESCRIPTION:
URL:https://www.scecina.org/event/college-visit-day-for-seniors/
END:VEVENT
BEGIN:VEVENT
DTSTART;VALUE=DATE:20211022
DTEND;VALUE=DATE:20211023
DTSTAMP:20260421T003620
CREATED:20210901T204942Z
LAST-MODIFIED:20210901T204942Z
UID:10000157-1634860800-1634947199@www.scecina.org
SUMMARY:Crazy Friday
DESCRIPTION:For a $2 donation\, students can dress out. ​All funds donated help Senior StuCo adopt a family in need for Christmas. Students can wear school-appropriate attire. No ripped jeans\, crop tops\, tank tops\, flip-flops.
URL:https://www.scecina.org/event/crazy-friday-11/
END:VEVENT
BEGIN:VEVENT
DTSTART;TZID=America/Indiana/Indianapolis:20211018T080000
DTEND;TZID=America/Indiana/Indianapolis:20211022T083000
DTSTAMP:20260421T003620
CREATED:20211006T192703Z
LAST-MODIFIED:20211006T192703Z
UID:10000165-1634544000-1634891400@www.scecina.org
SUMMARY:Student Council Sock Drive starts
DESCRIPTION:Student Council sock drive is Oct. 18-22
URL:https://www.scecina.org/event/student-council-sock-drive-starts/
END:VEVENT
BEGIN:VEVENT
DTSTART;TZID=America/Indiana/Indianapolis:20211017T120000
DTEND;TZID=America/Indiana/Indianapolis:20211017T180000
DTSTAMP:20260421T003620
CREATED:20211015T205659Z
LAST-MODIFIED:20211015T205659Z
UID:10000176-1634472000-1634493600@www.scecina.org
SUMMARY:CYO Girls Basketball Jamboree
DESCRIPTION:In the Crusader gym.
URL:https://www.scecina.org/event/cyo-girls-basketball-jamboree/
END:VEVENT
BEGIN:VEVENT
DTSTART;VALUE=DATE:20211011
DTEND;VALUE=DATE:20211016
DTSTAMP:20260421T003620
CREATED:20210702T145705Z
LAST-MODIFIED:20210702T145705Z
UID:10000142-1633910400-1634342399@www.scecina.org
SUMMARY:Fall Break
DESCRIPTION:
URL:https://www.scecina.org/event/fall-break-3/
CATEGORIES:Holiday/Vacation
END:VEVENT
BEGIN:VEVENT
DTSTART;VALUE=DATE:20211008
DTEND;VALUE=DATE:20211009
DTSTAMP:20260421T003620
CREATED:20210924T205633Z
LAST-MODIFIED:20210924T205633Z
UID:10000164-1633651200-1633737599@www.scecina.org
SUMMARY:End Of Quarter
DESCRIPTION:
URL:https://www.scecina.org/event/end-of-quarter/
END:VEVENT
BEGIN:VEVENT
DTSTART;VALUE=DATE:20211008
DTEND;VALUE=DATE:20211009
DTSTAMP:20260421T003620
CREATED:20210901T204912Z
LAST-MODIFIED:20210901T204912Z
UID:10000156-1633651200-1633737599@www.scecina.org
SUMMARY:Crazy Friday
DESCRIPTION:For a $2 donation\, students can dress out. ​All funds donated help Senior StuCo adopt a family in need for Christmas. Students can wear school-appropriate attire. No ripped jeans\, crop tops\, tank tops\, flip-flops.
URL:https://www.scecina.org/event/crazy-friday-10/
END:VEVENT
BEGIN:VEVENT
DTSTART;TZID=America/Indiana/Indianapolis:20211006T080000
DTEND;TZID=America/Indiana/Indianapolis:20211006T170000
DTSTAMP:20260421T003620
CREATED:20211006T192752Z
LAST-MODIFIED:20211006T192752Z
UID:10000166-1633507200-1633539600@www.scecina.org
SUMMARY:Father Tom Mass
DESCRIPTION:Scecina honors Father Thomas Scecina on the anniversary of his birth (Oct. 24\, 1910)
URL:https://www.scecina.org/event/father-tom-mass/
END:VEVENT
BEGIN:VEVENT
DTSTART;VALUE=DATE:20211004
DTEND;VALUE=DATE:20211006
DTSTAMP:20260421T003620
CREATED:20210924T205404Z
LAST-MODIFIED:20210924T205404Z
UID:10000163-1633305600-1633478399@www.scecina.org
SUMMARY:eLearning
DESCRIPTION:Students should check Canvas for eLearning work to complete these two days.
URL:https://www.scecina.org/event/elearning/
END:VEVENT
BEGIN:VEVENT
DTSTART;VALUE=DATE:20210924
DTEND;VALUE=DATE:20210925
DTSTAMP:20260421T003620
CREATED:20210901T204830Z
LAST-MODIFIED:20210901T204830Z
UID:10000155-1632441600-1632527999@www.scecina.org
SUMMARY:Crazy Friday
DESCRIPTION:For a $2 donation\, students can dress out. ​All funds donated help Senior StuCo adopt a family in need for Christmas. Students can wear school-appropriate attire. No ripped jeans\, crop tops\, tank tops\, flip-flops.
URL:https://www.scecina.org/event/crazy-friday-9/
END:VEVENT
BEGIN:VEVENT
DTSTART;TZID=America/Indiana/Indianapolis:20210914T173000
DTEND;TZID=America/Indiana/Indianapolis:20210914T184500
DTSTAMP:20260421T003620
CREATED:20210910T163649Z
LAST-MODIFIED:20210910T163649Z
UID:10000162-1631640600-1631645100@www.scecina.org
SUMMARY:Zoom Through Admissions: Admissions 101 (English)
DESCRIPTION:For 8th-graders and their families \nMiriam Medina\, director of admissions\, and Ellen Walsh\, assistant director of admissions\, will walk you through the process of applying for admission. We will include important deadlines for the 2022-23 school year\, and we will demonstrate how to fill out an application so you can complete your own!
URL:https://www.scecina.org/event/zoom-through-admissions-admissions-101-english/
END:VEVENT
BEGIN:VEVENT
DTSTART;TZID=America/Indiana/Indianapolis:20210909T190500
DTEND;TZID=America/Indiana/Indianapolis:20210909T201500
DTSTAMP:20260421T003620
CREATED:20210708T234104Z
LAST-MODIFIED:20210708T234104Z
UID:10000151-1631214300-1631218500@www.scecina.org
SUMMARY:Senior Parent College Information Night
DESCRIPTION:
URL:https://www.scecina.org/event/senior-parent-college-information-night/
END:VEVENT
BEGIN:VEVENT
DTSTART;TZID=America/Indiana/Indianapolis:20210909T170000
DTEND;TZID=America/Indiana/Indianapolis:20210909T190000
DTSTAMP:20260421T003620
CREATED:20210908T225511Z
LAST-MODIFIED:20210908T225511Z
UID:10000161-1631206800-1631214000@www.scecina.org
SUMMARY:Progress Report Night
DESCRIPTION:Talk to your child’s teachers about their grades and coursework
URL:https://www.scecina.org/event/progress-report-night-3/
END:VEVENT
BEGIN:VEVENT
DTSTART;VALUE=DATE:20210906
DTEND;VALUE=DATE:20210907
DTSTAMP:20260421T003620
CREATED:20210708T234452Z
LAST-MODIFIED:20210708T234452Z
UID:10000153-1630886400-1630972799@www.scecina.org
SUMMARY:Labor Day (No Classes)
DESCRIPTION:
URL:https://www.scecina.org/event/labor-day-no-school/
END:VEVENT
BEGIN:VEVENT
DTSTART;TZID=America/Indiana/Indianapolis:20210903T190000
DTEND;TZID=America/Indiana/Indianapolis:20210903T213000
DTSTAMP:20260421T003620
CREATED:20210901T205440Z
LAST-MODIFIED:20210901T205440Z
UID:10000160-1630695600-1630704600@www.scecina.org
SUMMARY:Homecoming Game
DESCRIPTION:Scecina Crusaders vs. Cascade High School\nat Roncalli Stadium (3300 Prague Road\, Indianapolis\, IN 46227)\n\nYou can purchase tickets in the athletic office or at the gate.\nThe athletic office also has all-sports passes available for all Scecina home games – $75 apiece or $125 for two.\nTickets are $6.
URL:https://www.scecina.org/event/homecoming-game/
END:VEVENT
BEGIN:VEVENT
DTSTART;TZID=America/Indiana/Indianapolis:20210903T173000
DTEND;TZID=America/Indiana/Indianapolis:20210903T190000
DTSTAMP:20260421T003620
CREATED:20210901T205335Z
LAST-MODIFIED:20210901T205335Z
UID:10000159-1630690200-1630695600@www.scecina.org
SUMMARY:Homecoming 2021 Tailgate
DESCRIPTION:  \n\nAt Roncalli Stadium\, 3300 Prague Road\nFree food\, drinks\, and chances to win Scecina spirit wear!\nFood provided by Bar-B-Q Heaven and Steer In.\nPulled pork\, hamburgers\, hot dogs\, green beans\, chips\, Indy Anna’s cookies\, soft drinks\, and water.
URL:https://www.scecina.org/event/homecoming-2021-tailgate/
END:VEVENT
BEGIN:VEVENT
DTSTART;VALUE=DATE:20210901
DTEND;VALUE=DATE:20210902
DTSTAMP:20260421T003620
CREATED:20210708T234255Z
LAST-MODIFIED:20210708T234255Z
UID:10000152-1630454400-1630540799@www.scecina.org
SUMMARY:Deadline to apply for voucher for first semester
DESCRIPTION:
URL:https://www.scecina.org/event/deadline-to-apply-for-voucher-for-first-semester/
END:VEVENT
BEGIN:VEVENT
DTSTART;TZID=America/Indiana/Indianapolis:20210823T183000
DTEND;TZID=America/Indiana/Indianapolis:20210823T200000
DTSTAMP:20260421T003620
CREATED:20210708T233911Z
LAST-MODIFIED:20210708T233911Z
UID:10000150-1629743400-1629748800@www.scecina.org
SUMMARY:Meet the Teachers Night
DESCRIPTION:6:00 – 6:30 p.m. – Parent Arrival & Check-In \n6:30-6:45-Welcome and Prayer \n6:45-8 – Walk through your child’s schedule
URL:https://www.scecina.org/event/meet-the-teachers-night/
END:VEVENT
BEGIN:VEVENT
DTSTART;VALUE=DATE:20210817
DTEND;VALUE=DATE:20210818
DTSTAMP:20260421T003620
CREATED:20210708T233726Z
LAST-MODIFIED:20210708T233726Z
UID:10000149-1629158400-1629244799@www.scecina.org
SUMMARY:Last Day for Student Class Changes
DESCRIPTION:
URL:https://www.scecina.org/event/last-day-for-student-class-changes/
END:VEVENT
BEGIN:VEVENT
DTSTART;VALUE=DATE:20210810
DTEND;VALUE=DATE:20210811
DTSTAMP:20260421T003620
CREATED:20210728T225257Z
LAST-MODIFIED:20210728T225257Z
UID:10000154-1628553600-1628639999@www.scecina.org
SUMMARY:2021-22 First Day of Classes
DESCRIPTION:Classes begin at 8:15 a.m. Students may enter school at 7:30 a.m.
URL:https://www.scecina.org/event/21-22-first-day-of-classes/
CATEGORIES:Academic
END:VEVENT
BEGIN:VEVENT
DTSTART;TZID=America/Indiana/Indianapolis:20210805T173000
DTEND;TZID=America/Indiana/Indianapolis:20210805T183000
DTSTAMP:20260421T003620
CREATED:20210702T145436Z
LAST-MODIFIED:20210702T145436Z
UID:10000141-1628184600-1628188200@www.scecina.org
SUMMARY:New Student Orientation - Parent Presentation
DESCRIPTION:
URL:https://www.scecina.org/event/new-student-orientation-parent-presentation/
CATEGORIES:Special Event
END:VEVENT
BEGIN:VEVENT
DTSTART;TZID=America/Indiana/Indianapolis:20210805T150000
DTEND;TZID=America/Indiana/Indianapolis:20210805T183000
DTSTAMP:20260421T003620
CREATED:20210702T145334Z
LAST-MODIFIED:20210702T145334Z
UID:10000140-1628175600-1628188200@www.scecina.org
SUMMARY:New Student Orientation
DESCRIPTION:
URL:https://www.scecina.org/event/new-student-orientation-2/
END:VEVENT
BEGIN:VEVENT
DTSTART;TZID=America/Indiana/Indianapolis:20210527T190000
DTEND;TZID=America/Indiana/Indianapolis:20210527T200000
DTSTAMP:20260421T003620
CREATED:20210430T184017Z
LAST-MODIFIED:20210430T184017Z
UID:10000137-1622142000-1622145600@www.scecina.org
SUMMARY:Class of 2021 Baccalaureate Mass
DESCRIPTION:SS. Peter & Paul Cathedral \n 
URL:https://www.scecina.org/event/class-of-2021-baccalaureate-mass/
END:VEVENT
BEGIN:VEVENT
DTSTART;TZID=America/Indiana/Indianapolis:20210526T133000
DTEND;TZID=America/Indiana/Indianapolis:20210526T150000
DTSTAMP:20260421T003620
CREATED:20210430T184202Z
LAST-MODIFIED:20210430T184202Z
UID:10000138-1622035800-1622041200@www.scecina.org
SUMMARY:Senior Awards Day
DESCRIPTION:Scecina gym
URL:https://www.scecina.org/event/senior-awards-day/
END:VEVENT
BEGIN:VEVENT
DTSTART;TZID=America/Indiana/Indianapolis:20210521T081500
DTEND;TZID=America/Indiana/Indianapolis:20210521T120000
DTSTAMP:20260421T003620
CREATED:20210519T230722Z
LAST-MODIFIED:20210519T230722Z
UID:10000139-1621584900-1621598400@www.scecina.org
SUMMARY:Campus Crusade
DESCRIPTION:Walkathon\, gym activities\, class competition\, prize drawings. Early dismissal at noon.
URL:https://www.scecina.org/event/campus-crusade/
END:VEVENT
BEGIN:VEVENT
DTSTART;VALUE=DATE:20210510
DTEND;VALUE=DATE:20210511
DTSTAMP:20260421T003620
CREATED:20210122T210509Z
LAST-MODIFIED:20210122T210509Z
UID:10000128-1620604800-1620691199@www.scecina.org
SUMMARY:Flex Learning Day
DESCRIPTION:
URL:https://www.scecina.org/event/flex-learning-day-4/
END:VEVENT
END:VCALENDAR