BEGIN:VCALENDAR
VERSION:2.0
PRODID:-//Scecina Memorial High School - ECPv6.15.20//NONSGML v1.0//EN
CALSCALE:GREGORIAN
METHOD:PUBLISH
X-ORIGINAL-URL:https://www.scecina.org
X-WR-CALDESC:Events for Scecina Memorial High School
REFRESH-INTERVAL;VALUE=DURATION:PT1H
X-Robots-Tag:noindex
X-PUBLISHED-TTL:PT1H
BEGIN:VTIMEZONE
TZID:America/Indiana/Indianapolis
BEGIN:DAYLIGHT
TZOFFSETFROM:-0500
TZOFFSETTO:-0400
TZNAME:EDT
DTSTART:20240310T070000
END:DAYLIGHT
BEGIN:STANDARD
TZOFFSETFROM:-0400
TZOFFSETTO:-0500
TZNAME:EST
DTSTART:20241103T060000
END:STANDARD
BEGIN:DAYLIGHT
TZOFFSETFROM:-0500
TZOFFSETTO:-0400
TZNAME:EDT
DTSTART:20250309T070000
END:DAYLIGHT
BEGIN:STANDARD
TZOFFSETFROM:-0400
TZOFFSETTO:-0500
TZNAME:EST
DTSTART:20251102T060000
END:STANDARD
BEGIN:DAYLIGHT
TZOFFSETFROM:-0500
TZOFFSETTO:-0400
TZNAME:EDT
DTSTART:20260308T070000
END:DAYLIGHT
BEGIN:STANDARD
TZOFFSETFROM:-0400
TZOFFSETTO:-0500
TZNAME:EST
DTSTART:20261101T060000
END:STANDARD
BEGIN:DAYLIGHT
TZOFFSETFROM:-0500
TZOFFSETTO:-0400
TZNAME:EDT
DTSTART:20270314T070000
END:DAYLIGHT
BEGIN:STANDARD
TZOFFSETFROM:-0400
TZOFFSETTO:-0500
TZNAME:EST
DTSTART:20271107T060000
END:STANDARD
END:VTIMEZONE
BEGIN:VEVENT
DTSTART;TZID=America/Indiana/Indianapolis:20251030T180000
DTEND;TZID=America/Indiana/Indianapolis:20251030T200000
DTSTAMP:20260420T234550
CREATED:20250630T185814Z
LAST-MODIFIED:20251017T195138Z
UID:10000632-1761847200-1761854400@www.scecina.org
SUMMARY:Open House
DESCRIPTION:Scecina’s annual Open House is a perfect opportunity for prospective families to learn how we prepare students for college\, career\, and life success through faith\, academics\, and community.👉 Share this link to register\nFamilies with elementary-aged children are encouraged to bring them along in costume for some trick-or-treating fun during the event!
URL:https://www.scecina.org/event/open-house-4/
CATEGORIES:Academic
END:VEVENT
BEGIN:VEVENT
DTSTART;VALUE=DATE:20251101
DTEND;VALUE=DATE:20251102
DTSTAMP:20260420T234550
CREATED:20250829T212134Z
LAST-MODIFIED:20251017T195722Z
UID:10000716-1761955200-1762041599@www.scecina.org
SUMMARY:Admissions Deadline #2
DESCRIPTION:Apply and complete all admission steps by November 1\, 2025 → Receive an Admissions Decision during Thanksgiving Week. Visit scecina.org/admissions to apply!
URL:https://www.scecina.org/event/admissions-deadline-2/
END:VEVENT
BEGIN:VEVENT
DTSTART;TZID=America/Indiana/Indianapolis:20251101T080000
DTEND;TZID=America/Indiana/Indianapolis:20251101T120000
DTSTAMP:20260420T234550
CREATED:20250630T185830Z
LAST-MODIFIED:20251017T195439Z
UID:10000634-1761984000-1761998400@www.scecina.org
SUMMARY:Placement Test #2
DESCRIPTION:The High School Placement Test (HSPT) is required to be considered for admission to Scecina Memorial. The test at Scecina is done on paper using a scantron. Pencils will be provided; calculators are not allowed. \nThe test dates for the Class of 2030 are: \n\nOctober 4\, 2025\, at 8:00 a.m.\nNovember 1\, 2025\, at 8:00 a.m.\nDecember 6\, 2025\, at 8:00 a.m.\n\nRegister for placement test.
URL:https://www.scecina.org/event/placement-test-2/
CATEGORIES:Academic
END:VEVENT
BEGIN:VEVENT
DTSTART;TZID=America/Indiana/Indianapolis:20251104T000000
DTEND;TZID=America/Indiana/Indianapolis:20251104T000000
DTSTAMP:20260420T234550
CREATED:20250630T185830Z
LAST-MODIFIED:20250630T185830Z
UID:10000636-1762214400-1762214400@www.scecina.org
SUMMARY:Fall Sports Awards
DESCRIPTION:
URL:https://www.scecina.org/event/fall-sports-awards-4/
CATEGORIES:Academic
END:VEVENT
BEGIN:VEVENT
DTSTART;TZID=America/Indiana/Indianapolis:20251107T190000
DTEND;TZID=America/Indiana/Indianapolis:20251107T210000
DTSTAMP:20260420T234550
CREATED:20250630T185830Z
LAST-MODIFIED:20251017T204649Z
UID:10000637-1762542000-1762549200@www.scecina.org
SUMMARY:Fall Play - The Neverland Project
DESCRIPTION:Fall Play – The Neverland Project  \nThis imaginative production re-envisions the classic story of Peter Pan\, exploring what it truly means to grow up\, believe\, and belong.Come support our talented student cast and crew as they bring this heartfelt and adventurous story to life on the Scecina stage.Performances: November 7 & 8 at 7 p.m.Location: Scecina GymnasiumTickets: scecina.org/scecina-theatre/
URL:https://www.scecina.org/event/fall-play-9/
CATEGORIES:Academic
END:VEVENT
BEGIN:VEVENT
DTSTART;TZID=America/Indiana/Indianapolis:20251111T000000
DTEND;TZID=America/Indiana/Indianapolis:20251111T000000
DTSTAMP:20260420T234550
CREATED:20250630T185844Z
LAST-MODIFIED:20250630T185844Z
UID:10000638-1762819200-1762819200@www.scecina.org
SUMMARY:All-School Mass (Veterans Day)
DESCRIPTION:
URL:https://www.scecina.org/event/all-school-mass-veterans-day/
CATEGORIES:Academic
END:VEVENT
BEGIN:VEVENT
DTSTART;TZID=America/Indiana/Indianapolis:20251113T000000
DTEND;TZID=America/Indiana/Indianapolis:20251113T000000
DTSTAMP:20260420T234550
CREATED:20250630T185844Z
LAST-MODIFIED:20250630T185844Z
UID:10000639-1762992000-1762992000@www.scecina.org
SUMMARY:Progress Report Night
DESCRIPTION:
URL:https://www.scecina.org/event/progress-report-night-13/
CATEGORIES:Academic
END:VEVENT
BEGIN:VEVENT
DTSTART;TZID=America/Indiana/Indianapolis:20251113T000000
DTEND;TZID=America/Indiana/Indianapolis:20251113T000000
DTSTAMP:20260420T234550
CREATED:20250630T185844Z
LAST-MODIFIED:20250630T185844Z
UID:10000640-1762992000-1762992000@www.scecina.org
SUMMARY:Sophomore Parent Meeting
DESCRIPTION:
URL:https://www.scecina.org/event/sophomore-parent-meeting/
CATEGORIES:Academic
END:VEVENT
BEGIN:VEVENT
DTSTART;TZID=America/Indiana/Indianapolis:20251115T110000
DTEND;TZID=America/Indiana/Indianapolis:20251115T140000
DTSTAMP:20260420T234550
CREATED:20251115T170745Z
LAST-MODIFIED:20251115T170745Z
UID:10001083-1763204400-1763215200@www.scecina.org
SUMMARY:Hispanic Heritage Celebration
DESCRIPTION:Join us from 11 a.m. to 2 p.m. in the Scecina Gym. Sponsored by the Scecina Spanish Club. Free and all are welcome!
URL:https://www.scecina.org/event/hispanic-heritage-celebration/
CATEGORIES:Special Event
END:VEVENT
BEGIN:VEVENT
DTSTART;VALUE=DATE:20251125
DTEND;VALUE=DATE:20251126
DTSTAMP:20260420T234550
CREATED:20250630T185844Z
LAST-MODIFIED:20251115T170930Z
UID:10000642-1764028800-1764115199@www.scecina.org
SUMMARY:Thanksgiving Prayer Service
DESCRIPTION:
URL:https://www.scecina.org/event/thanksgiving-prayer-service/
CATEGORIES:Academic
END:VEVENT
BEGIN:VEVENT
DTSTART;VALUE=DATE:20251126
DTEND;VALUE=DATE:20251129
DTSTAMP:20260420T234550
CREATED:20250630T185858Z
LAST-MODIFIED:20251115T170619Z
UID:10000643-1764115200-1764374399@www.scecina.org
SUMMARY:Thanksgiving Break (No Classes)
DESCRIPTION:
URL:https://www.scecina.org/event/thanksgiving-break-no-classes-4/
CATEGORIES:Academic,Holiday/Vacation
END:VEVENT
BEGIN:VEVENT
DTSTART;VALUE=DATE:20251127
DTEND;VALUE=DATE:20251128
DTSTAMP:20260420T234550
CREATED:20250630T185858Z
LAST-MODIFIED:20251115T170245Z
UID:10000644-1764201600-1764287999@www.scecina.org
SUMMARY:Thanksgiving Day
DESCRIPTION:
URL:https://www.scecina.org/event/thanksgiving-day-2/
CATEGORIES:Holiday/Vacation
END:VEVENT
BEGIN:VEVENT
DTSTART;VALUE=DATE:20251130
DTEND;VALUE=DATE:20251201
DTSTAMP:20260420T234550
CREATED:20250630T185859Z
LAST-MODIFIED:20251115T170556Z
UID:10000645-1764460800-1764547199@www.scecina.org
SUMMARY:First Sunday of Advent
DESCRIPTION:
URL:https://www.scecina.org/event/first-sunday-of-advent/
CATEGORIES:Academic
END:VEVENT
BEGIN:VEVENT
DTSTART;TZID=America/Indiana/Indianapolis:20251201T190000
DTEND;TZID=America/Indiana/Indianapolis:20251201T200000
DTSTAMP:20260420T234550
CREATED:20250630T185859Z
LAST-MODIFIED:20251122T183626Z
UID:10000646-1764615600-1764619200@www.scecina.org
SUMMARY:Christmas Music Concert
DESCRIPTION:
URL:https://www.scecina.org/event/christmas-music-concert-3/
CATEGORIES:Academic
END:VEVENT
BEGIN:VEVENT
DTSTART;VALUE=DATE:20251202
DTEND;VALUE=DATE:20251206
DTSTAMP:20260420T234550
CREATED:20250630T185859Z
LAST-MODIFIED:20251122T183942Z
UID:10000647-1764633600-1764979199@www.scecina.org
SUMMARY:Senior Retreat #1
DESCRIPTION:
URL:https://www.scecina.org/event/senior-retreat-1-5/
CATEGORIES:Academic
END:VEVENT
BEGIN:VEVENT
DTSTART;TZID=America/Indiana/Indianapolis:20251206T000000
DTEND;TZID=America/Indiana/Indianapolis:20251206T000000
DTSTAMP:20260420T234550
CREATED:20250630T185913Z
LAST-MODIFIED:20250630T185913Z
UID:10000648-1764979200-1764979200@www.scecina.org
SUMMARY:High School Placement Test #3
DESCRIPTION:
URL:https://www.scecina.org/event/high-school-placement-test-3-2/
CATEGORIES:Academic
END:VEVENT
BEGIN:VEVENT
DTSTART;TZID=America/Indiana/Indianapolis:20251208T000000
DTEND;TZID=America/Indiana/Indianapolis:20251208T000000
DTSTAMP:20260420T234550
CREATED:20250630T185913Z
LAST-MODIFIED:20250630T185913Z
UID:10000650-1765152000-1765152000@www.scecina.org
SUMMARY:All-School Mass (Immaculate Conception)
DESCRIPTION:
URL:https://www.scecina.org/event/all-school-mass-immaculate-conception/
CATEGORIES:Academic
END:VEVENT
BEGIN:VEVENT
DTSTART;TZID=America/Indiana/Indianapolis:20251210T000000
DTEND;TZID=America/Indiana/Indianapolis:20251210T000000
DTSTAMP:20260420T234550
CREATED:20250630T185914Z
LAST-MODIFIED:20250630T185914Z
UID:10000651-1765324800-1765324800@www.scecina.org
SUMMARY:Archindy Senior Mass
DESCRIPTION:
URL:https://www.scecina.org/event/archindy-senior-mass/
CATEGORIES:Academic
END:VEVENT
BEGIN:VEVENT
DTSTART;TZID=America/Indiana/Indianapolis:20251212T000000
DTEND;TZID=America/Indiana/Indianapolis:20251212T000000
DTSTAMP:20260420T234550
CREATED:20250630T185914Z
LAST-MODIFIED:20250630T185914Z
UID:10000652-1765497600-1765497600@www.scecina.org
SUMMARY:Chapel Mass (Our Lady of Guadalupe)
DESCRIPTION:
URL:https://www.scecina.org/event/chapel-mass-our-lady-of-guadalupe/
CATEGORIES:Academic
END:VEVENT
BEGIN:VEVENT
DTSTART;VALUE=DATE:20251213
DTEND;VALUE=DATE:20251214
DTSTAMP:20260420T234550
CREATED:20250630T185913Z
LAST-MODIFIED:20251122T184502Z
UID:10000649-1765584000-1765670399@www.scecina.org
SUMMARY:Turnabout Dance (StuCo)
DESCRIPTION:
URL:https://www.scecina.org/event/turnabout-dance-stuco/
CATEGORIES:Academic
END:VEVENT
BEGIN:VEVENT
DTSTART;TZID=America/Indiana/Indianapolis:20251215T000000
DTEND;TZID=America/Indiana/Indianapolis:20251218T000000
DTSTAMP:20260420T234550
CREATED:20250630T185929Z
LAST-MODIFIED:20250630T185929Z
UID:10000653-1765756800-1766016000@www.scecina.org
SUMMARY:Semester 1 Final Exams (Early Dismissal)
DESCRIPTION:
URL:https://www.scecina.org/event/semester-1-final-exams-early-dismissal-2/
CATEGORIES:Academic
END:VEVENT
BEGIN:VEVENT
DTSTART;TZID=America/Indiana/Indianapolis:20251219T000000
DTEND;TZID=America/Indiana/Indianapolis:20251219T000000
DTSTAMP:20260420T234550
CREATED:20250630T185930Z
LAST-MODIFIED:20250630T185930Z
UID:10000654-1766102400-1766102400@www.scecina.org
SUMMARY:Make-up Finals/Teacher Workday
DESCRIPTION:
URL:https://www.scecina.org/event/make-up-finals-teacher-workday/
CATEGORIES:Academic
END:VEVENT
BEGIN:VEVENT
DTSTART;TZID=America/Indiana/Indianapolis:20251219T000000
DTEND;TZID=America/Indiana/Indianapolis:20251219T000000
DTSTAMP:20260420T234550
CREATED:20250630T185930Z
LAST-MODIFIED:20250630T185930Z
UID:10000655-1766102400-1766102400@www.scecina.org
SUMMARY:End of Q2/Semester 1
DESCRIPTION:
URL:https://www.scecina.org/event/end-of-q2-semester-1/
CATEGORIES:Academic
END:VEVENT
BEGIN:VEVENT
DTSTART;TZID=America/Indiana/Indianapolis:20251222T000000
DTEND;TZID=America/Indiana/Indianapolis:20260102T000000
DTSTAMP:20260420T234550
CREATED:20250630T185930Z
LAST-MODIFIED:20250630T190551Z
UID:10000656-1766361600-1767312000@www.scecina.org
SUMMARY:Student Christmas Break (No Classes)
DESCRIPTION:
URL:https://www.scecina.org/event/student-christmas-break-no-classes/
CATEGORIES:Holiday/Vacation
END:VEVENT
BEGIN:VEVENT
DTSTART;TZID=America/Indiana/Indianapolis:20251225T000000
DTEND;TZID=America/Indiana/Indianapolis:20251225T000000
DTSTAMP:20260420T234550
CREATED:20250630T185930Z
LAST-MODIFIED:20250630T190543Z
UID:10000657-1766620800-1766620800@www.scecina.org
SUMMARY:Christmas Day
DESCRIPTION:
URL:https://www.scecina.org/event/christmas-day-2/
CATEGORIES:Holiday/Vacation
END:VEVENT
BEGIN:VEVENT
DTSTART;TZID=America/Indiana/Indianapolis:20260101T000000
DTEND;TZID=America/Indiana/Indianapolis:20260101T000000
DTSTAMP:20260420T234550
CREATED:20250630T185944Z
LAST-MODIFIED:20250630T190535Z
UID:10000658-1767225600-1767225600@www.scecina.org
SUMMARY:New Year's Day
DESCRIPTION:
URL:https://www.scecina.org/event/new-years-day/
CATEGORIES:Holiday/Vacation
END:VEVENT
BEGIN:VEVENT
DTSTART;TZID=America/Indiana/Indianapolis:20260105T000000
DTEND;TZID=America/Indiana/Indianapolis:20260105T000000
DTSTAMP:20260420T234550
CREATED:20250630T185944Z
LAST-MODIFIED:20250630T185944Z
UID:10000659-1767571200-1767571200@www.scecina.org
SUMMARY:Classes Resume
DESCRIPTION:
URL:https://www.scecina.org/event/classes-resume-3/
CATEGORIES:Academic
END:VEVENT
BEGIN:VEVENT
DTSTART;TZID=America/Indiana/Indianapolis:20260109T000000
DTEND;TZID=America/Indiana/Indianapolis:20260109T000000
DTSTAMP:20260420T234550
CREATED:20250630T185944Z
LAST-MODIFIED:20250630T185944Z
UID:10000660-1767916800-1767916800@www.scecina.org
SUMMARY:All-School Mass
DESCRIPTION:
URL:https://www.scecina.org/event/all-school-mass-14/
CATEGORIES:Academic
END:VEVENT
BEGIN:VEVENT
DTSTART;TZID=America/Indiana/Indianapolis:20260112T000000
DTEND;TZID=America/Indiana/Indianapolis:20260301T000000
DTSTAMP:20260420T234550
CREATED:20250630T185944Z
LAST-MODIFIED:20250630T185944Z
UID:10000661-1768176000-1772323200@www.scecina.org
SUMMARY:WIDA Testing Window
DESCRIPTION:
URL:https://www.scecina.org/event/wida-testing-window-3/
CATEGORIES:Academic
END:VEVENT
BEGIN:VEVENT
DTSTART;TZID=America/Indiana/Indianapolis:20260115T000000
DTEND;TZID=America/Indiana/Indianapolis:20260115T000000
DTSTAMP:20260420T234550
CREATED:20250630T185944Z
LAST-MODIFIED:20250630T185944Z
UID:10000662-1768435200-1768435200@www.scecina.org
SUMMARY:FAFSA Night #1
DESCRIPTION:
URL:https://www.scecina.org/event/fafsa-night-1/
CATEGORIES:Academic
END:VEVENT
END:VCALENDAR