BEGIN:VCALENDAR
VERSION:2.0
PRODID:-//Scecina Memorial High School - ECPv6.15.20//NONSGML v1.0//EN
CALSCALE:GREGORIAN
METHOD:PUBLISH
X-WR-CALNAME:Scecina Memorial High School
X-ORIGINAL-URL:https://www.scecina.org
X-WR-CALDESC:Events for Scecina Memorial High School
REFRESH-INTERVAL;VALUE=DURATION:PT1H
X-Robots-Tag:noindex
X-PUBLISHED-TTL:PT1H
BEGIN:VTIMEZONE
TZID:America/Indiana/Indianapolis
BEGIN:DAYLIGHT
TZOFFSETFROM:-0500
TZOFFSETTO:-0400
TZNAME:EDT
DTSTART:20180311T070000
END:DAYLIGHT
BEGIN:STANDARD
TZOFFSETFROM:-0400
TZOFFSETTO:-0500
TZNAME:EST
DTSTART:20181104T060000
END:STANDARD
BEGIN:DAYLIGHT
TZOFFSETFROM:-0500
TZOFFSETTO:-0400
TZNAME:EDT
DTSTART:20190310T070000
END:DAYLIGHT
BEGIN:STANDARD
TZOFFSETFROM:-0400
TZOFFSETTO:-0500
TZNAME:EST
DTSTART:20191103T060000
END:STANDARD
BEGIN:DAYLIGHT
TZOFFSETFROM:-0500
TZOFFSETTO:-0400
TZNAME:EDT
DTSTART:20200308T070000
END:DAYLIGHT
BEGIN:STANDARD
TZOFFSETFROM:-0400
TZOFFSETTO:-0500
TZNAME:EST
DTSTART:20201101T060000
END:STANDARD
BEGIN:DAYLIGHT
TZOFFSETFROM:-0500
TZOFFSETTO:-0400
TZNAME:EDT
DTSTART:20210314T070000
END:DAYLIGHT
BEGIN:STANDARD
TZOFFSETFROM:-0400
TZOFFSETTO:-0500
TZNAME:EST
DTSTART:20211107T060000
END:STANDARD
END:VTIMEZONE
BEGIN:VEVENT
DTSTART;TZID=America/Indiana/Indianapolis:20200316T170000
DTEND;TZID=America/Indiana/Indianapolis:20200316T190000
DTSTAMP:20260421T054602
CREATED:20190904T031115Z
LAST-MODIFIED:20190904T031115Z
UID:10000065-1584378000-1584385200@www.scecina.org
SUMMARY:Progress Report Night
DESCRIPTION:
URL:https://www.scecina.org/event/progress-report-night-2/
END:VEVENT
BEGIN:VEVENT
DTSTART;TZID=America/Indiana/Indianapolis:20200309T190000
DTEND;TZID=America/Indiana/Indianapolis:20200309T200000
DTSTAMP:20260421T054602
CREATED:20190904T031005Z
LAST-MODIFIED:20190904T031005Z
UID:10000064-1583780400-1583784000@www.scecina.org
SUMMARY:Scholar Athlete Event
DESCRIPTION:
URL:https://www.scecina.org/event/scholar-athlete-award/
END:VEVENT
BEGIN:VEVENT
DTSTART;TZID=America/Indiana/Indianapolis:20200306T080000
DTEND;TZID=America/Indiana/Indianapolis:20200306T170000
DTSTAMP:20260421T054602
CREATED:20190904T030856Z
LAST-MODIFIED:20190904T030856Z
UID:10000063-1583481600-1583514000@www.scecina.org
SUMMARY:End of third quarter
DESCRIPTION:
URL:https://www.scecina.org/event/end-of-third-quarter/
END:VEVENT
BEGIN:VEVENT
DTSTART;TZID=America/Indiana/Indianapolis:20200306T080000
DTEND;TZID=America/Indiana/Indianapolis:20200306T170000
DTSTAMP:20260421T054602
CREATED:20190827T012910Z
LAST-MODIFIED:20190827T012910Z
UID:10000020-1583481600-1583514000@www.scecina.org
SUMMARY:Crazy Friday
DESCRIPTION:
URL:https://www.scecina.org/event/crazy-friday-7/
CATEGORIES:Academic
END:VEVENT
BEGIN:VEVENT
DTSTART;TZID=America/Indiana/Indianapolis:20200305T080000
DTEND;TZID=America/Indiana/Indianapolis:20200305T150000
DTSTAMP:20260421T054602
CREATED:20190904T030820Z
LAST-MODIFIED:20190904T030820Z
UID:10000062-1583395200-1583420400@www.scecina.org
SUMMARY:Sophomore Hearing Screening
DESCRIPTION:
URL:https://www.scecina.org/event/sophomore-hearing-screening/
END:VEVENT
BEGIN:VEVENT
DTSTART;TZID=America/Indiana/Indianapolis:20200303T190000
DTEND;TZID=America/Indiana/Indianapolis:20200303T190000
DTSTAMP:20260421T054602
CREATED:20200302T165832Z
LAST-MODIFIED:20200302T165832Z
UID:10000103-1583262000-1583262000@www.scecina.org
SUMMARY:IHSAA Boys Basketball Sectional
DESCRIPTION:First round: Scecina vs. University
URL:https://www.scecina.org/event/ihsaa-boys-basketball-sectional/
END:VEVENT
BEGIN:VEVENT
DTSTART;TZID=America/Indiana/Indianapolis:20200302T190000
DTEND;TZID=America/Indiana/Indianapolis:20200302T200000
DTSTAMP:20260421T054602
CREATED:20190904T030644Z
LAST-MODIFIED:20190904T030644Z
UID:10000060-1583175600-1583179200@www.scecina.org
SUMMARY:Winter Sports Awards
DESCRIPTION:
URL:https://www.scecina.org/event/winter-sports-awards/
END:VEVENT
BEGIN:VEVENT
DTSTART;TZID=America/Indiana/Indianapolis:20200229T070000
DTEND;TZID=America/Indiana/Indianapolis:20200229T170000
DTSTAMP:20260421T054602
CREATED:20191230T162256Z
LAST-MODIFIED:20191230T162256Z
UID:10000095-1582959600-1582995600@www.scecina.org
SUMMARY:McClellan Tournament
DESCRIPTION:East Side Crusader Wrestling
URL:https://www.scecina.org/event/mcclellan-tournament/
END:VEVENT
BEGIN:VEVENT
DTSTART;TZID=America/Indiana/Indianapolis:20200228T073000
DTEND;TZID=America/Indiana/Indianapolis:20200228T150000
DTSTAMP:20260421T054602
CREATED:20200219T164608Z
LAST-MODIFIED:20200219T164608Z
UID:10000101-1582875000-1582902000@www.scecina.org
SUMMARY:Silly Safaris
DESCRIPTION:Science classes throughout day attend Silly Safaris show in the gym. The Silly Safaris mission is to create positive human-animal interactions that inspire responsible pet ownership and wild animal conservation.
URL:https://www.scecina.org/event/silly-safaris/
END:VEVENT
BEGIN:VEVENT
DTSTART;VALUE=DATE:20200226
DTEND;VALUE=DATE:20200227
DTSTAMP:20260421T054602
CREATED:20190904T030601Z
LAST-MODIFIED:20190904T030601Z
UID:10000059-1582675200-1582761599@www.scecina.org
SUMMARY:Ash Wednesday
DESCRIPTION:
URL:https://www.scecina.org/event/ash-wednesday/
END:VEVENT
BEGIN:VEVENT
DTSTART;TZID=America/Indiana/Indianapolis:20200221T080000
DTEND;TZID=America/Indiana/Indianapolis:20200221T170000
DTSTAMP:20260421T054602
CREATED:20190827T012840Z
LAST-MODIFIED:20190827T012840Z
UID:10000013-1582272000-1582304400@www.scecina.org
SUMMARY:Crazy Friday
DESCRIPTION:
URL:https://www.scecina.org/event/crazy-friday-6/
CATEGORIES:Academic
END:VEVENT
BEGIN:VEVENT
DTSTART;VALUE=DATE:20200217
DTEND;VALUE=DATE:20200218
DTSTAMP:20260421T054602
CREATED:20190904T030215Z
LAST-MODIFIED:20190904T030215Z
UID:10000058-1581897600-1581983999@www.scecina.org
SUMMARY:Presidents Day-No School
DESCRIPTION:
URL:https://www.scecina.org/event/presidents-day-no-school/
END:VEVENT
BEGIN:VEVENT
DTSTART;VALUE=DATE:20200210
DTEND;VALUE=DATE:20200215
DTSTAMP:20260421T054602
CREATED:20200207T184338Z
LAST-MODIFIED:20200207T184338Z
UID:10000100-1581292800-1581724799@www.scecina.org
SUMMARY:Student Council Diaper Drive
DESCRIPTION:Scecina’s Student Council hosts the Diaper Drive to collect 1\,000 diapers for Holy Family Shelter and Birthline. Feb. 10-14
URL:https://www.scecina.org/event/student-council-diaper-drive/
END:VEVENT
BEGIN:VEVENT
DTSTART;TZID=America/Indiana/Indianapolis:20200204T170000
DTEND;TZID=America/Indiana/Indianapolis:20200207T170000
DTSTAMP:20260421T054602
CREATED:20190904T030041Z
LAST-MODIFIED:20190904T030041Z
UID:10000057-1580835600-1581094800@www.scecina.org
SUMMARY:Senior Retreat
DESCRIPTION:
URL:https://www.scecina.org/event/senior-retreat-3/
END:VEVENT
BEGIN:VEVENT
DTSTART;TZID=America/Indiana/Indianapolis:20200130T180000
DTEND;TZID=America/Indiana/Indianapolis:20200130T190000
DTSTAMP:20260421T054602
CREATED:20190904T025919Z
LAST-MODIFIED:20190904T025919Z
UID:10000056-1580407200-1580410800@www.scecina.org
SUMMARY:East Deanery Band Concert
DESCRIPTION:
URL:https://www.scecina.org/event/east-deanery-band-concert/
END:VEVENT
BEGIN:VEVENT
DTSTART;TZID=America/Indiana/Indianapolis:20200130T090000
DTEND;TZID=America/Indiana/Indianapolis:20200130T180000
DTSTAMP:20260421T054602
CREATED:20190904T025841Z
LAST-MODIFIED:20190904T025841Z
UID:10000055-1580374800-1580407200@www.scecina.org
SUMMARY:East Deanery Band Festival
DESCRIPTION:
URL:https://www.scecina.org/event/east-deanery-band-festival/
END:VEVENT
BEGIN:VEVENT
DTSTART;TZID=America/Indiana/Indianapolis:20200128T130000
DTEND;TZID=America/Indiana/Indianapolis:20200128T150000
DTSTAMP:20260421T054602
CREATED:20200121T211402Z
LAST-MODIFIED:20200121T211402Z
UID:10000098-1580216400-1580223600@www.scecina.org
SUMMARY:ECSP Staff Retreat
DESCRIPTION:
URL:https://www.scecina.org/event/ecsp-staff-retreat/
END:VEVENT
BEGIN:VEVENT
DTSTART;TZID=America/Indiana/Indianapolis:20200128T073000
DTEND;TZID=America/Indiana/Indianapolis:20200128T150500
DTSTAMP:20260421T054602
CREATED:20191119T220645Z
LAST-MODIFIED:20191119T220645Z
UID:10000094-1580196600-1580223900@www.scecina.org
SUMMARY:eLearning Day
DESCRIPTION:
URL:https://www.scecina.org/event/elearning-day/
END:VEVENT
BEGIN:VEVENT
DTSTART;VALUE=DATE:20200124
DTEND;VALUE=DATE:20200125
DTSTAMP:20260421T054602
CREATED:20190827T012815Z
LAST-MODIFIED:20190827T012815Z
UID:10000012-1579824000-1579910399@www.scecina.org
SUMMARY:Crazy Friday
DESCRIPTION:
URL:https://www.scecina.org/event/crazy-friday-5/
CATEGORIES:Academic
END:VEVENT
BEGIN:VEVENT
DTSTART;VALUE=DATE:20200122
DTEND;VALUE=DATE:20200123
DTSTAMP:20260421T054602
CREATED:20190904T025656Z
LAST-MODIFIED:20190904T025656Z
UID:10000054-1579651200-1579737599@www.scecina.org
SUMMARY:Early Bird Admissions Deadline
DESCRIPTION:Apply to Scecina by this date to be entered into a drawing for a $3\,000 scholarship.
URL:https://www.scecina.org/event/early-admissions-deadline/
END:VEVENT
BEGIN:VEVENT
DTSTART;VALUE=DATE:20200120
DTEND;VALUE=DATE:20200121
DTSTAMP:20260421T054602
CREATED:20190904T025606Z
LAST-MODIFIED:20190904T025606Z
UID:10000053-1579478400-1579564799@www.scecina.org
SUMMARY:Martin Luther King Jr. Day-No School
DESCRIPTION:
URL:https://www.scecina.org/event/martin-luther-king-jr-day-no-school/
END:VEVENT
BEGIN:VEVENT
DTSTART;TZID=America/Indiana/Indianapolis:20200118T210000
DTEND;TZID=America/Indiana/Indianapolis:20200118T230000
DTSTAMP:20260421T054602
CREATED:20200110T211505Z
LAST-MODIFIED:20200110T211505Z
UID:10000097-1579381200-1579388400@www.scecina.org
SUMMARY:Red and Gold 3-3 Basketball Tournament
DESCRIPTION:Free to participants and spectators. Sponsored by Scecina Student Council.
URL:https://www.scecina.org/event/red-and-gold-3-3-basketball-tournament/
END:VEVENT
BEGIN:VEVENT
DTSTART;VALUE=DATE:20200113
DTEND;VALUE=DATE:20200119
DTSTAMP:20260421T054602
CREATED:20190904T024856Z
LAST-MODIFIED:20190904T024856Z
UID:10000046-1578873600-1579391999@www.scecina.org
SUMMARY:Red and Gold Week
DESCRIPTION:
URL:https://www.scecina.org/event/red-and-gold-week/
END:VEVENT
BEGIN:VEVENT
DTSTART;TZID=America/Indiana/Indianapolis:20200111T080000
DTEND;TZID=America/Indiana/Indianapolis:20200111T120000
DTSTAMP:20260421T054602
CREATED:20190904T025529Z
LAST-MODIFIED:20190904T025529Z
UID:10000052-1578729600-1578744000@www.scecina.org
SUMMARY:High School Placement Test
DESCRIPTION:More information and sign-up at scecina.org/admissions
URL:https://www.scecina.org/event/high-school-placement-test-3/
END:VEVENT
BEGIN:VEVENT
DTSTART;TZID=America/Indiana/Indianapolis:20200106T093000
DTEND;TZID=America/Indiana/Indianapolis:20200106T150000
DTSTAMP:20260421T054602
CREATED:20200104T233625Z
LAST-MODIFIED:20200104T233625Z
UID:10000096-1578303000-1578322800@www.scecina.org
SUMMARY:Late arrival - 9:30 a.m.
DESCRIPTION:
URL:https://www.scecina.org/event/late-arrival-930-a-m/
END:VEVENT
BEGIN:VEVENT
DTSTART;VALUE=DATE:20200101
DTEND;VALUE=DATE:20200102
DTSTAMP:20260421T054602
CREATED:20190904T025432Z
LAST-MODIFIED:20190904T025432Z
UID:10000051-1577836800-1577923199@www.scecina.org
SUMMARY:Feast of Mary the Mother of God
DESCRIPTION:
URL:https://www.scecina.org/event/feast-of-mary-the-mother-of-god/
END:VEVENT
BEGIN:VEVENT
DTSTART;VALUE=DATE:20191225
DTEND;VALUE=DATE:20191226
DTSTAMP:20260421T054602
CREATED:20190904T025404Z
LAST-MODIFIED:20190904T025404Z
UID:10000050-1577232000-1577318399@www.scecina.org
SUMMARY:Christmas
DESCRIPTION:
URL:https://www.scecina.org/event/christmas/
END:VEVENT
BEGIN:VEVENT
DTSTART;VALUE=DATE:20191220
DTEND;VALUE=DATE:20200106
DTSTAMP:20260421T054602
CREATED:20190904T025327Z
LAST-MODIFIED:20190904T025327Z
UID:10000049-1576800000-1578268799@www.scecina.org
SUMMARY:Christmas Break
DESCRIPTION:
URL:https://www.scecina.org/event/christmas-break/
END:VEVENT
BEGIN:VEVENT
DTSTART;TZID=America/Indiana/Indianapolis:20191219T073000
DTEND;TZID=America/Indiana/Indianapolis:20191219T230500
DTSTAMP:20260421T054602
CREATED:20190904T025251Z
LAST-MODIFIED:20190904T025251Z
UID:10000048-1576740600-1576796700@www.scecina.org
SUMMARY:Early Dismissal-11:05 a.m.
DESCRIPTION:
URL:https://www.scecina.org/event/early-dismissal-2/
END:VEVENT
BEGIN:VEVENT
DTSTART;TZID=America/Indiana/Indianapolis:20191215T150000
DTEND;TZID=America/Indiana/Indianapolis:20191215T160000
DTSTAMP:20260421T054602
CREATED:20190904T025047Z
LAST-MODIFIED:20190904T025047Z
UID:10000047-1576422000-1576425600@www.scecina.org
SUMMARY:Winter Music Concert
DESCRIPTION:
URL:https://www.scecina.org/event/winter-music-concert/
END:VEVENT
END:VCALENDAR