BEGIN:VCALENDAR
VERSION:2.0
PRODID:-//Scecina Memorial High School - ECPv6.15.20//NONSGML v1.0//EN
CALSCALE:GREGORIAN
METHOD:PUBLISH
X-WR-CALNAME:Scecina Memorial High School
X-ORIGINAL-URL:https://www.scecina.org
X-WR-CALDESC:Events for Scecina Memorial High School
REFRESH-INTERVAL;VALUE=DURATION:PT1H
X-Robots-Tag:noindex
X-PUBLISHED-TTL:PT1H
BEGIN:VTIMEZONE
TZID:America/Indiana/Indianapolis
BEGIN:DAYLIGHT
TZOFFSETFROM:-0500
TZOFFSETTO:-0400
TZNAME:EDT
DTSTART:20180311T070000
END:DAYLIGHT
BEGIN:STANDARD
TZOFFSETFROM:-0400
TZOFFSETTO:-0500
TZNAME:EST
DTSTART:20181104T060000
END:STANDARD
BEGIN:DAYLIGHT
TZOFFSETFROM:-0500
TZOFFSETTO:-0400
TZNAME:EDT
DTSTART:20190310T070000
END:DAYLIGHT
BEGIN:STANDARD
TZOFFSETFROM:-0400
TZOFFSETTO:-0500
TZNAME:EST
DTSTART:20191103T060000
END:STANDARD
BEGIN:DAYLIGHT
TZOFFSETFROM:-0500
TZOFFSETTO:-0400
TZNAME:EDT
DTSTART:20200308T070000
END:DAYLIGHT
BEGIN:STANDARD
TZOFFSETFROM:-0400
TZOFFSETTO:-0500
TZNAME:EST
DTSTART:20201101T060000
END:STANDARD
BEGIN:DAYLIGHT
TZOFFSETFROM:-0500
TZOFFSETTO:-0400
TZNAME:EDT
DTSTART:20210314T070000
END:DAYLIGHT
BEGIN:STANDARD
TZOFFSETFROM:-0400
TZOFFSETTO:-0500
TZNAME:EST
DTSTART:20211107T060000
END:STANDARD
END:VTIMEZONE
BEGIN:VEVENT
DTSTART;VALUE=DATE:20191220
DTEND;VALUE=DATE:20200106
DTSTAMP:20260421T095516
CREATED:20190904T025327Z
LAST-MODIFIED:20190904T025327Z
UID:10000049-1576800000-1578268799@www.scecina.org
SUMMARY:Christmas Break
DESCRIPTION:
URL:https://www.scecina.org/event/christmas-break/
END:VEVENT
BEGIN:VEVENT
DTSTART;TZID=America/Indiana/Indianapolis:20191219T073000
DTEND;TZID=America/Indiana/Indianapolis:20191219T230500
DTSTAMP:20260421T095516
CREATED:20190904T025251Z
LAST-MODIFIED:20190904T025251Z
UID:10000048-1576740600-1576796700@www.scecina.org
SUMMARY:Early Dismissal-11:05 a.m.
DESCRIPTION:
URL:https://www.scecina.org/event/early-dismissal-2/
END:VEVENT
BEGIN:VEVENT
DTSTART;TZID=America/Indiana/Indianapolis:20191215T150000
DTEND;TZID=America/Indiana/Indianapolis:20191215T160000
DTSTAMP:20260421T095516
CREATED:20190904T025047Z
LAST-MODIFIED:20190904T025047Z
UID:10000047-1576422000-1576425600@www.scecina.org
SUMMARY:Winter Music Concert
DESCRIPTION:
URL:https://www.scecina.org/event/winter-music-concert/
END:VEVENT
BEGIN:VEVENT
DTSTART;TZID=America/Indiana/Indianapolis:20191207T200000
DTEND;TZID=America/Indiana/Indianapolis:20191207T230000
DTSTAMP:20260421T095516
CREATED:20190904T024813Z
LAST-MODIFIED:20190904T024813Z
UID:10000045-1575748800-1575759600@www.scecina.org
SUMMARY:Turnabout Dance (Winter Semi-Formal)
DESCRIPTION:
URL:https://www.scecina.org/event/turnabout-dane/
END:VEVENT
BEGIN:VEVENT
DTSTART;TZID=America/Indiana/Indianapolis:20191207T080000
DTEND;TZID=America/Indiana/Indianapolis:20191207T120000
DTSTAMP:20260421T095516
CREATED:20190904T024734Z
LAST-MODIFIED:20190904T024734Z
UID:10000044-1575705600-1575720000@www.scecina.org
SUMMARY:High School Placement Test
DESCRIPTION:
URL:https://www.scecina.org/event/high-school-placement-test-2/
END:VEVENT
BEGIN:VEVENT
DTSTART;TZID=America/Indiana/Indianapolis:20191202T103000
DTEND;TZID=America/Indiana/Indianapolis:20191202T120000
DTSTAMP:20260421T095516
CREATED:20190904T024653Z
LAST-MODIFIED:20190904T024653Z
UID:10000043-1575282600-1575288000@www.scecina.org
SUMMARY:Senior Mass with Archbishop Thompson
DESCRIPTION:
URL:https://www.scecina.org/event/senior-mass-with-archbishop-thompson/
END:VEVENT
BEGIN:VEVENT
DTSTART;TZID=America/Indiana/Indianapolis:20191129T080000
DTEND;TZID=America/Indiana/Indianapolis:20191129T170000
DTSTAMP:20260421T095516
CREATED:20190904T024555Z
LAST-MODIFIED:20190904T024555Z
UID:10000042-1575014400-1575046800@www.scecina.org
SUMMARY:Thanksgiving Break-No School
DESCRIPTION:
URL:https://www.scecina.org/event/thanksgiving-break-no-school/
END:VEVENT
BEGIN:VEVENT
DTSTART;VALUE=DATE:20191128
DTEND;VALUE=DATE:20191129
DTSTAMP:20260421T095516
CREATED:20190904T024503Z
LAST-MODIFIED:20190904T024503Z
UID:10000041-1574899200-1574985599@www.scecina.org
SUMMARY:Thanksgiving-No School
DESCRIPTION:
URL:https://www.scecina.org/event/thanksgiving-no-school/
END:VEVENT
BEGIN:VEVENT
DTSTART;TZID=America/Indiana/Indianapolis:20191124T130000
DTEND;TZID=America/Indiana/Indianapolis:20191124T170000
DTSTAMP:20260421T095516
CREATED:20191106T175658Z
LAST-MODIFIED:20191106T175658Z
UID:10000092-1574600400-1574614800@www.scecina.org
SUMMARY:Basketball Jamboree
DESCRIPTION:CYO Basketball
URL:https://www.scecina.org/event/basketball-jamboree/
END:VEVENT
BEGIN:VEVENT
DTSTART;VALUE=DATE:20191122
DTEND;VALUE=DATE:20191123
DTSTAMP:20260421T095516
CREATED:20190904T024439Z
LAST-MODIFIED:20190904T024439Z
UID:10000040-1574380800-1574467199@www.scecina.org
SUMMARY:Last Day for Canned Food Drive
DESCRIPTION:
URL:https://www.scecina.org/event/last-day-for-canned-food-drive/
END:VEVENT
BEGIN:VEVENT
DTSTART;TZID=America/Indiana/Indianapolis:20191119T170000
DTEND;TZID=America/Indiana/Indianapolis:20191122T170000
DTSTAMP:20260421T095516
CREATED:20190904T024407Z
LAST-MODIFIED:20190904T024407Z
UID:10000039-1574182800-1574442000@www.scecina.org
SUMMARY:Senior Retreat
DESCRIPTION:
URL:https://www.scecina.org/event/senior-retreat-2/
END:VEVENT
BEGIN:VEVENT
DTSTART;TZID=America/Indiana/Indianapolis:20191118T080000
DTEND;TZID=America/Indiana/Indianapolis:20191118T150000
DTSTAMP:20260421T095516
CREATED:20191113T225051Z
LAST-MODIFIED:20191113T225051Z
UID:10000093-1574064000-1574089200@www.scecina.org
SUMMARY:Hybrid eLearning Day
DESCRIPTION:
URL:https://www.scecina.org/event/hybrid-elearning-day/
END:VEVENT
BEGIN:VEVENT
DTSTART;TZID=America/Indiana/Indianapolis:20191116T190000
DTEND;TZID=America/Indiana/Indianapolis:20191116T210000
DTSTAMP:20260421T095516
CREATED:20190904T024303Z
LAST-MODIFIED:20190904T024303Z
UID:10000038-1573930800-1573938000@www.scecina.org
SUMMARY:Fall Play
DESCRIPTION:“Peter and the Starcatcher”
URL:https://www.scecina.org/event/fall-play-2/
END:VEVENT
BEGIN:VEVENT
DTSTART;TZID=America/Indiana/Indianapolis:20191115T190000
DTEND;TZID=America/Indiana/Indianapolis:20191115T210000
DTSTAMP:20260421T095516
CREATED:20190904T024214Z
LAST-MODIFIED:20190904T024214Z
UID:10000037-1573844400-1573851600@www.scecina.org
SUMMARY:Fall Play
DESCRIPTION:“Peter and the Starcatchers”
URL:https://www.scecina.org/event/fall-play/
END:VEVENT
BEGIN:VEVENT
DTSTART;TZID=America/Indiana/Indianapolis:20191109T080000
DTEND;TZID=America/Indiana/Indianapolis:20191109T120000
DTSTAMP:20260421T095516
CREATED:20190904T023912Z
LAST-MODIFIED:20190904T023912Z
UID:10000036-1573286400-1573300800@www.scecina.org
SUMMARY:High School Placement Test
DESCRIPTION:
URL:https://www.scecina.org/event/high-school-placement-test/
END:VEVENT
BEGIN:VEVENT
DTSTART;VALUE=DATE:20191108
DTEND;VALUE=DATE:20191109
DTSTAMP:20260421T095516
CREATED:20190827T012749Z
LAST-MODIFIED:20190827T012749Z
UID:10000011-1573171200-1573257599@www.scecina.org
SUMMARY:Crazy Friday
DESCRIPTION:
URL:https://www.scecina.org/event/crazy-friday-4/
CATEGORIES:Academic
END:VEVENT
BEGIN:VEVENT
DTSTART;TZID=America/Indiana/Indianapolis:20191105T190000
DTEND;TZID=America/Indiana/Indianapolis:20191105T200000
DTSTAMP:20260421T095516
CREATED:20190904T023829Z
LAST-MODIFIED:20190904T023829Z
UID:10000035-1572980400-1572984000@www.scecina.org
SUMMARY:Fall Sports Awards
DESCRIPTION:Cafeteria
URL:https://www.scecina.org/event/fall-sports-awards/
END:VEVENT
BEGIN:VEVENT
DTSTART;TZID=America/Indiana/Indianapolis:20191104T190000
DTEND;TZID=America/Indiana/Indianapolis:20191104T200000
DTSTAMP:20260421T095516
CREATED:20191016T204249Z
LAST-MODIFIED:20191016T204249Z
UID:10000091-1572894000-1572897600@www.scecina.org
SUMMARY:Yellow Ribbon Presentation for parents
DESCRIPTION:Yellow Ribbon empowers people to raise awareness about and to prevent youth/teen suicide. Sponsored by Scecina’s Parent Ambassador Team. All parents invited.
URL:https://www.scecina.org/event/yellow-ribbon-presentation-for-parents/
END:VEVENT
BEGIN:VEVENT
DTSTART;TZID=America/Indiana/Indianapolis:20191101T093000
DTEND;TZID=America/Indiana/Indianapolis:20191101T103000
DTSTAMP:20260421T095516
CREATED:20190904T023715Z
LAST-MODIFIED:20190904T023715Z
UID:10000034-1572600600-1572604200@www.scecina.org
SUMMARY:All Saints Day Mass
DESCRIPTION:
URL:https://www.scecina.org/event/all-saints-day-mass/
END:VEVENT
BEGIN:VEVENT
DTSTART;VALUE=DATE:20191101
DTEND;VALUE=DATE:20191102
DTSTAMP:20260421T095516
CREATED:20190827T012704Z
LAST-MODIFIED:20190827T012704Z
UID:10000010-1572566400-1572652799@www.scecina.org
SUMMARY:Crazy Friday
DESCRIPTION:
URL:https://www.scecina.org/event/crazy-friday-3/
CATEGORIES:Academic
END:VEVENT
BEGIN:VEVENT
DTSTART;VALUE=DATE:20191031
DTEND;VALUE=DATE:20191101
DTSTAMP:20260421T095516
CREATED:20190904T023642Z
LAST-MODIFIED:20190904T023642Z
UID:10000033-1572480000-1572566399@www.scecina.org
SUMMARY:Canned Food Drive Starts
DESCRIPTION:
URL:https://www.scecina.org/event/canned-food-drive-starts/
END:VEVENT
BEGIN:VEVENT
DTSTART;TZID=America/Indiana/Indianapolis:20191030T074500
DTEND;TZID=America/Indiana/Indianapolis:20191030T120000
DTSTAMP:20260421T095516
CREATED:20190904T023553Z
LAST-MODIFIED:20190904T023553Z
UID:10000032-1572421500-1572436800@www.scecina.org
SUMMARY:PSAT Testing
DESCRIPTION:
URL:https://www.scecina.org/event/psat-testing/
END:VEVENT
BEGIN:VEVENT
DTSTART;TZID=America/Indiana/Indianapolis:20191026T100000
DTEND;TZID=America/Indiana/Indianapolis:20191026T160000
DTSTAMP:20260421T095516
CREATED:20191003T183151Z
LAST-MODIFIED:20191003T183151Z
UID:10000090-1572084000-1572105600@www.scecina.org
SUMMARY:Irvington Halloween Festival
DESCRIPTION:Check out Scecina’s booth at the festival!
URL:https://www.scecina.org/event/irvington-halloween-festival/
END:VEVENT
BEGIN:VEVENT
DTSTART;VALUE=DATE:20191025
DTEND;VALUE=DATE:20191026
DTSTAMP:20260421T095516
CREATED:20190827T012615Z
LAST-MODIFIED:20190827T012615Z
UID:10000009-1571961600-1572047999@www.scecina.org
SUMMARY:Crazy Friday
DESCRIPTION:
URL:https://www.scecina.org/event/crazy-friday-2/
CATEGORIES:Academic
END:VEVENT
BEGIN:VEVENT
DTSTART;TZID=America/Indiana/Indianapolis:20191024T093000
DTEND;TZID=America/Indiana/Indianapolis:20191024T103000
DTSTAMP:20260421T095516
CREATED:20190904T023324Z
LAST-MODIFIED:20190904T023324Z
UID:10000031-1571909400-1571913000@www.scecina.org
SUMMARY:Father Scecina Mass
DESCRIPTION:
URL:https://www.scecina.org/event/father-scecina-mass/
END:VEVENT
BEGIN:VEVENT
DTSTART;TZID=America/Indiana/Indianapolis:20191021T093000
DTEND;TZID=America/Indiana/Indianapolis:20191021T150000
DTSTAMP:20260421T095516
CREATED:20190904T023231Z
LAST-MODIFIED:20190904T023231Z
UID:10000030-1571650200-1571670000@www.scecina.org
SUMMARY:Late Arrival at 9:30 am-Professional Development Day-
DESCRIPTION:
URL:https://www.scecina.org/event/late-arrival-at-930-am-professional-development-day/
END:VEVENT
BEGIN:VEVENT
DTSTART;TZID=America/Indiana/Indianapolis:20191014T080000
DTEND;TZID=America/Indiana/Indianapolis:20191018T150000
DTSTAMP:20260421T095516
CREATED:20190827T205026Z
LAST-MODIFIED:20190827T205026Z
UID:10000027-1571040000-1571410800@www.scecina.org
SUMMARY:Fall Break
DESCRIPTION:
URL:https://www.scecina.org/event/fall-break/
CATEGORIES:Academic
END:VEVENT
BEGIN:VEVENT
DTSTART;VALUE=DATE:20191011
DTEND;VALUE=DATE:20191012
DTSTAMP:20260421T095516
CREATED:20190827T205307Z
LAST-MODIFIED:20190827T205307Z
UID:10000028-1570752000-1570838399@www.scecina.org
SUMMARY:End of 1st Quarter
DESCRIPTION:
URL:https://www.scecina.org/event/end-of-1st-quarter/
CATEGORIES:Academic
END:VEVENT
BEGIN:VEVENT
DTSTART;TZID=America/Indiana/Indianapolis:20191010T180000
DTEND;TZID=America/Indiana/Indianapolis:20191010T200000
DTSTAMP:20260421T095516
CREATED:20190827T204747Z
LAST-MODIFIED:20190827T204747Z
UID:10000025-1570730400-1570737600@www.scecina.org
SUMMARY:Scecina's Fall Open House
DESCRIPTION:
URL:https://www.scecina.org/event/scecinas-fall-open-house/
CATEGORIES:Academic
END:VEVENT
BEGIN:VEVENT
DTSTART;TZID=America/Indiana/Indianapolis:20191004T093000
DTEND;TZID=America/Indiana/Indianapolis:20191004T103000
DTSTAMP:20260421T095516
CREATED:20190917T140319Z
LAST-MODIFIED:20190917T140319Z
UID:10000089-1570181400-1570185000@www.scecina.org
SUMMARY:Yellow Ribbon Presentation
DESCRIPTION:For all freshmen and any new transfer students.   Yellow Ribbon is a nationwide suicide prevention program.  If you have any concerns about your child attending\, please notify the school.
URL:https://www.scecina.org/event/yellow-ribbon-presentation/
END:VEVENT
END:VCALENDAR