BEGIN:VCALENDAR
VERSION:2.0
PRODID:-//Scecina Memorial High School - ECPv6.15.20//NONSGML v1.0//EN
CALSCALE:GREGORIAN
METHOD:PUBLISH
X-WR-CALNAME:Scecina Memorial High School
X-ORIGINAL-URL:https://www.scecina.org
X-WR-CALDESC:Events for Scecina Memorial High School
REFRESH-INTERVAL;VALUE=DURATION:PT1H
X-Robots-Tag:noindex
X-PUBLISHED-TTL:PT1H
BEGIN:VTIMEZONE
TZID:America/Indiana/Indianapolis
BEGIN:DAYLIGHT
TZOFFSETFROM:-0500
TZOFFSETTO:-0400
TZNAME:EDT
DTSTART:20190310T070000
END:DAYLIGHT
BEGIN:STANDARD
TZOFFSETFROM:-0400
TZOFFSETTO:-0500
TZNAME:EST
DTSTART:20191103T060000
END:STANDARD
BEGIN:DAYLIGHT
TZOFFSETFROM:-0500
TZOFFSETTO:-0400
TZNAME:EDT
DTSTART:20200308T070000
END:DAYLIGHT
BEGIN:STANDARD
TZOFFSETFROM:-0400
TZOFFSETTO:-0500
TZNAME:EST
DTSTART:20201101T060000
END:STANDARD
BEGIN:DAYLIGHT
TZOFFSETFROM:-0500
TZOFFSETTO:-0400
TZNAME:EDT
DTSTART:20210314T070000
END:DAYLIGHT
BEGIN:STANDARD
TZOFFSETFROM:-0400
TZOFFSETTO:-0500
TZNAME:EST
DTSTART:20211107T060000
END:STANDARD
BEGIN:DAYLIGHT
TZOFFSETFROM:-0500
TZOFFSETTO:-0400
TZNAME:EDT
DTSTART:20220313T070000
END:DAYLIGHT
BEGIN:STANDARD
TZOFFSETFROM:-0400
TZOFFSETTO:-0500
TZNAME:EST
DTSTART:20221106T060000
END:STANDARD
END:VTIMEZONE
BEGIN:VEVENT
DTSTART;VALUE=DATE:20210906
DTEND;VALUE=DATE:20210907
DTSTAMP:20260420T174046
CREATED:20210708T234452Z
LAST-MODIFIED:20210708T234452Z
UID:10000153-1630886400-1630972799@www.scecina.org
SUMMARY:Labor Day (No Classes)
DESCRIPTION:
URL:https://www.scecina.org/event/labor-day-no-school/
END:VEVENT
BEGIN:VEVENT
DTSTART;TZID=America/Indiana/Indianapolis:20210903T190000
DTEND;TZID=America/Indiana/Indianapolis:20210903T213000
DTSTAMP:20260420T174046
CREATED:20210901T205440Z
LAST-MODIFIED:20210901T205440Z
UID:10000160-1630695600-1630704600@www.scecina.org
SUMMARY:Homecoming Game
DESCRIPTION:Scecina Crusaders vs. Cascade High School\nat Roncalli Stadium (3300 Prague Road\, Indianapolis\, IN 46227)\n\nYou can purchase tickets in the athletic office or at the gate.\nThe athletic office also has all-sports passes available for all Scecina home games – $75 apiece or $125 for two.\nTickets are $6.
URL:https://www.scecina.org/event/homecoming-game/
END:VEVENT
BEGIN:VEVENT
DTSTART;TZID=America/Indiana/Indianapolis:20210903T173000
DTEND;TZID=America/Indiana/Indianapolis:20210903T190000
DTSTAMP:20260420T174046
CREATED:20210901T205335Z
LAST-MODIFIED:20210901T205335Z
UID:10000159-1630690200-1630695600@www.scecina.org
SUMMARY:Homecoming 2021 Tailgate
DESCRIPTION:  \n\nAt Roncalli Stadium\, 3300 Prague Road\nFree food\, drinks\, and chances to win Scecina spirit wear!\nFood provided by Bar-B-Q Heaven and Steer In.\nPulled pork\, hamburgers\, hot dogs\, green beans\, chips\, Indy Anna’s cookies\, soft drinks\, and water.
URL:https://www.scecina.org/event/homecoming-2021-tailgate/
END:VEVENT
BEGIN:VEVENT
DTSTART;VALUE=DATE:20210901
DTEND;VALUE=DATE:20210902
DTSTAMP:20260420T174046
CREATED:20210708T234255Z
LAST-MODIFIED:20210708T234255Z
UID:10000152-1630454400-1630540799@www.scecina.org
SUMMARY:Deadline to apply for voucher for first semester
DESCRIPTION:
URL:https://www.scecina.org/event/deadline-to-apply-for-voucher-for-first-semester/
END:VEVENT
BEGIN:VEVENT
DTSTART;TZID=America/Indiana/Indianapolis:20210823T183000
DTEND;TZID=America/Indiana/Indianapolis:20210823T200000
DTSTAMP:20260420T174046
CREATED:20210708T233911Z
LAST-MODIFIED:20210708T233911Z
UID:10000150-1629743400-1629748800@www.scecina.org
SUMMARY:Meet the Teachers Night
DESCRIPTION:6:00 – 6:30 p.m. – Parent Arrival & Check-In \n6:30-6:45-Welcome and Prayer \n6:45-8 – Walk through your child’s schedule
URL:https://www.scecina.org/event/meet-the-teachers-night/
END:VEVENT
BEGIN:VEVENT
DTSTART;VALUE=DATE:20210817
DTEND;VALUE=DATE:20210818
DTSTAMP:20260420T174046
CREATED:20210708T233726Z
LAST-MODIFIED:20210708T233726Z
UID:10000149-1629158400-1629244799@www.scecina.org
SUMMARY:Last Day for Student Class Changes
DESCRIPTION:
URL:https://www.scecina.org/event/last-day-for-student-class-changes/
END:VEVENT
BEGIN:VEVENT
DTSTART;VALUE=DATE:20210810
DTEND;VALUE=DATE:20210811
DTSTAMP:20260420T174046
CREATED:20210728T225257Z
LAST-MODIFIED:20210728T225257Z
UID:10000154-1628553600-1628639999@www.scecina.org
SUMMARY:2021-22 First Day of Classes
DESCRIPTION:Classes begin at 8:15 a.m. Students may enter school at 7:30 a.m.
URL:https://www.scecina.org/event/21-22-first-day-of-classes/
CATEGORIES:Academic
END:VEVENT
BEGIN:VEVENT
DTSTART;TZID=America/Indiana/Indianapolis:20210805T173000
DTEND;TZID=America/Indiana/Indianapolis:20210805T183000
DTSTAMP:20260420T174046
CREATED:20210702T145436Z
LAST-MODIFIED:20210702T145436Z
UID:10000141-1628184600-1628188200@www.scecina.org
SUMMARY:New Student Orientation - Parent Presentation
DESCRIPTION:
URL:https://www.scecina.org/event/new-student-orientation-parent-presentation/
CATEGORIES:Special Event
END:VEVENT
BEGIN:VEVENT
DTSTART;TZID=America/Indiana/Indianapolis:20210805T150000
DTEND;TZID=America/Indiana/Indianapolis:20210805T183000
DTSTAMP:20260420T174046
CREATED:20210702T145334Z
LAST-MODIFIED:20210702T145334Z
UID:10000140-1628175600-1628188200@www.scecina.org
SUMMARY:New Student Orientation
DESCRIPTION:
URL:https://www.scecina.org/event/new-student-orientation-2/
END:VEVENT
BEGIN:VEVENT
DTSTART;TZID=America/Indiana/Indianapolis:20210527T190000
DTEND;TZID=America/Indiana/Indianapolis:20210527T200000
DTSTAMP:20260420T174046
CREATED:20210430T184017Z
LAST-MODIFIED:20210430T184017Z
UID:10000137-1622142000-1622145600@www.scecina.org
SUMMARY:Class of 2021 Baccalaureate Mass
DESCRIPTION:SS. Peter & Paul Cathedral \n 
URL:https://www.scecina.org/event/class-of-2021-baccalaureate-mass/
END:VEVENT
BEGIN:VEVENT
DTSTART;TZID=America/Indiana/Indianapolis:20210526T133000
DTEND;TZID=America/Indiana/Indianapolis:20210526T150000
DTSTAMP:20260420T174046
CREATED:20210430T184202Z
LAST-MODIFIED:20210430T184202Z
UID:10000138-1622035800-1622041200@www.scecina.org
SUMMARY:Senior Awards Day
DESCRIPTION:Scecina gym
URL:https://www.scecina.org/event/senior-awards-day/
END:VEVENT
BEGIN:VEVENT
DTSTART;TZID=America/Indiana/Indianapolis:20210521T081500
DTEND;TZID=America/Indiana/Indianapolis:20210521T120000
DTSTAMP:20260420T174046
CREATED:20210519T230722Z
LAST-MODIFIED:20210519T230722Z
UID:10000139-1621584900-1621598400@www.scecina.org
SUMMARY:Campus Crusade
DESCRIPTION:Walkathon\, gym activities\, class competition\, prize drawings. Early dismissal at noon.
URL:https://www.scecina.org/event/campus-crusade/
END:VEVENT
BEGIN:VEVENT
DTSTART;VALUE=DATE:20210510
DTEND;VALUE=DATE:20210511
DTSTAMP:20260420T174046
CREATED:20210122T210509Z
LAST-MODIFIED:20210122T210509Z
UID:10000128-1620604800-1620691199@www.scecina.org
SUMMARY:Flex Learning Day
DESCRIPTION:
URL:https://www.scecina.org/event/flex-learning-day-4/
END:VEVENT
BEGIN:VEVENT
DTSTART;VALUE=DATE:20210426
DTEND;VALUE=DATE:20210427
DTSTAMP:20260420T174046
CREATED:20210122T210406Z
LAST-MODIFIED:20210122T210406Z
UID:10000127-1619395200-1619481599@www.scecina.org
SUMMARY:Flex Learning Day
DESCRIPTION:
URL:https://www.scecina.org/event/flex-learning-day-3/
END:VEVENT
BEGIN:VEVENT
DTSTART;TZID=America/Indiana/Indianapolis:20210425T190000
DTEND;TZID=America/Indiana/Indianapolis:20210425T210000
DTSTAMP:20260420T174046
CREATED:20210224T164104Z
LAST-MODIFIED:20210224T164104Z
UID:10000133-1619377200-1619384400@www.scecina.org
SUMMARY:Spring Musical
DESCRIPTION:
URL:https://www.scecina.org/event/spring-musical-4/
END:VEVENT
BEGIN:VEVENT
DTSTART;TZID=America/Indiana/Indianapolis:20210424T190000
DTEND;TZID=America/Indiana/Indianapolis:20210424T210000
DTSTAMP:20260420T174046
CREATED:20210224T164025Z
LAST-MODIFIED:20210224T164025Z
UID:10000132-1619290800-1619298000@www.scecina.org
SUMMARY:Spring Musical
DESCRIPTION:
URL:https://www.scecina.org/event/spring-musical-3/
CATEGORIES:Special Event
END:VEVENT
BEGIN:VEVENT
DTSTART;TZID=America/Indiana/Indianapolis:20210420T190000
DTEND;TZID=America/Indiana/Indianapolis:20210420T200000
DTSTAMP:20260420T174046
CREATED:20210401T213413Z
LAST-MODIFIED:20210401T213413Z
UID:10000136-1618945200-1618948800@www.scecina.org
SUMMARY:President's Academic Excellence
DESCRIPTION:Invited students and guests only
URL:https://www.scecina.org/event/presidents-academic-excellence/
END:VEVENT
BEGIN:VEVENT
DTSTART;VALUE=DATE:20210405
DTEND;VALUE=DATE:20210406
DTSTAMP:20260420T174046
CREATED:20210122T210110Z
LAST-MODIFIED:20210122T210110Z
UID:10000126-1617580800-1617667199@www.scecina.org
SUMMARY:Easter Monday - No School
DESCRIPTION:
URL:https://www.scecina.org/event/easter-monday-no-school-2/
END:VEVENT
BEGIN:VEVENT
DTSTART;VALUE=DATE:20210329
DTEND;VALUE=DATE:20210330
DTSTAMP:20260420T174046
CREATED:20210321T221053Z
LAST-MODIFIED:20210321T221053Z
UID:10000134-1616976000-1617062399@www.scecina.org
SUMMARY:No School
DESCRIPTION:
URL:https://www.scecina.org/event/no-school/
END:VEVENT
BEGIN:VEVENT
DTSTART;VALUE=DATE:20210322
DTEND;VALUE=DATE:20210327
DTSTAMP:20260420T174046
CREATED:20190904T031731Z
LAST-MODIFIED:20190904T031731Z
UID:10000071-1616371200-1616803199@www.scecina.org
SUMMARY:Spring Break 2021
DESCRIPTION:
URL:https://www.scecina.org/event/spring-break/
END:VEVENT
BEGIN:VEVENT
DTSTART;VALUE=DATE:20210309
DTEND;VALUE=DATE:20210311
DTSTAMP:20260420T174046
CREATED:20210224T163020Z
LAST-MODIFIED:20210224T163020Z
UID:10000131-1615248000-1615420799@www.scecina.org
SUMMARY:Picture Days
DESCRIPTION:
URL:https://www.scecina.org/event/picture-days/
END:VEVENT
BEGIN:VEVENT
DTSTART;VALUE=DATE:20210309
DTEND;VALUE=DATE:20210311
DTSTAMP:20260420T174046
CREATED:20210219T202021Z
LAST-MODIFIED:20210219T202021Z
UID:10000130-1615248000-1615420799@www.scecina.org
SUMMARY:Picture Day
DESCRIPTION:
URL:https://www.scecina.org/event/picture-day/
END:VEVENT
BEGIN:VEVENT
DTSTART;VALUE=DATE:20210308
DTEND;VALUE=DATE:20210309
DTSTAMP:20260420T174046
CREATED:20210122T210020Z
LAST-MODIFIED:20210122T210020Z
UID:10000125-1615161600-1615247999@www.scecina.org
SUMMARY:Flex Learning Day
DESCRIPTION:
URL:https://www.scecina.org/event/flex-learning-day-2/
END:VEVENT
BEGIN:VEVENT
DTSTART;TZID=America/Indiana/Indianapolis:20210303T180000
DTEND;TZID=America/Indiana/Indianapolis:20210303T200000
DTSTAMP:20260420T174046
CREATED:20190904T030731Z
LAST-MODIFIED:20190904T030731Z
UID:10000061-1614794400-1614801600@www.scecina.org
SUMMARY:Curriculum Night
DESCRIPTION:An evening for enrolling students and their parents to request classes for the upcoming school year. You can register through your SchoolAdmin portal.   If you are unable to attend one of the scheduled Curriculum Nights\, please contact our Admissions Office for an appointment.
URL:https://www.scecina.org/event/curriculum-night-2/
END:VEVENT
BEGIN:VEVENT
DTSTART;TZID=America/Indiana/Indianapolis:20210224T180000
DTEND;TZID=America/Indiana/Indianapolis:20210224T200000
DTSTAMP:20260420T174046
CREATED:20210219T181128Z
LAST-MODIFIED:20210219T181128Z
UID:10000129-1614189600-1614196800@www.scecina.org
SUMMARY:Curriculum Night
DESCRIPTION:An evening for enrolling students and their parents to request classes for the upcoming school year. You can register through your SchoolAdmin portal.   If you are unable to attend one of the scheduled Curriculum Nights\, please contact our Admissions Office for an appointment.
URL:https://www.scecina.org/event/curriculum-night-4/
END:VEVENT
BEGIN:VEVENT
DTSTART;VALUE=DATE:20210215
DTEND;VALUE=DATE:20210216
DTSTAMP:20260420T174046
CREATED:20210122T205449Z
LAST-MODIFIED:20210122T205449Z
UID:10000123-1613347200-1613433599@www.scecina.org
SUMMARY:Presidents Day-No School
DESCRIPTION:
URL:https://www.scecina.org/event/presidents-day-no-school-2/
END:VEVENT
BEGIN:VEVENT
DTSTART;VALUE=DATE:20210208
DTEND;VALUE=DATE:20210209
DTSTAMP:20260420T174046
CREATED:20210122T205949Z
LAST-MODIFIED:20210122T205949Z
UID:10000124-1612742400-1612828799@www.scecina.org
SUMMARY:Flex Learning Day
DESCRIPTION:
URL:https://www.scecina.org/event/flex-learning-day/
END:VEVENT
BEGIN:VEVENT
DTSTART;VALUE=DATE:20210118
DTEND;VALUE=DATE:20210119
DTSTAMP:20260420T174046
CREATED:20210108T011226Z
LAST-MODIFIED:20210108T011226Z
UID:10000121-1610928000-1611014399@www.scecina.org
SUMMARY:Martin Luther King Jr. Day\, No School
DESCRIPTION:
URL:https://www.scecina.org/event/martin-luther-king-jr-day-no-school-2/
END:VEVENT
BEGIN:VEVENT
DTSTART;TZID=America/Indiana/Indianapolis:20210113T190000
DTEND;TZID=America/Indiana/Indianapolis:20210113T210000
DTSTAMP:20260420T174046
CREATED:20210108T011421Z
LAST-MODIFIED:20210108T011421Z
UID:10000122-1610564400-1610571600@www.scecina.org
SUMMARY:PSAT Report Interpretation
DESCRIPTION:
URL:https://www.scecina.org/event/psat-report-interpretation/
END:VEVENT
BEGIN:VEVENT
DTSTART;TZID=America/Indiana/Indianapolis:20201218T080000
DTEND;TZID=America/Indiana/Indianapolis:20210103T170000
DTSTAMP:20260420T174046
CREATED:20200709T014438Z
LAST-MODIFIED:20200709T014438Z
UID:10000116-1608278400-1609693200@www.scecina.org
SUMMARY:Christmas Break
DESCRIPTION:No classes. Classes resume Jan. 5
URL:https://www.scecina.org/event/christmas-break-2/
END:VEVENT
END:VCALENDAR