BEGIN:VCALENDAR
VERSION:2.0
PRODID:-//Scecina Memorial High School - ECPv6.15.20//NONSGML v1.0//EN
CALSCALE:GREGORIAN
METHOD:PUBLISH
X-WR-CALNAME:Scecina Memorial High School
X-ORIGINAL-URL:https://www.scecina.org
X-WR-CALDESC:Events for Scecina Memorial High School
REFRESH-INTERVAL;VALUE=DURATION:PT1H
X-Robots-Tag:noindex
X-PUBLISHED-TTL:PT1H
BEGIN:VTIMEZONE
TZID:America/Indiana/Indianapolis
BEGIN:DAYLIGHT
TZOFFSETFROM:-0500
TZOFFSETTO:-0400
TZNAME:EDT
DTSTART:20190310T070000
END:DAYLIGHT
BEGIN:STANDARD
TZOFFSETFROM:-0400
TZOFFSETTO:-0500
TZNAME:EST
DTSTART:20191103T060000
END:STANDARD
BEGIN:DAYLIGHT
TZOFFSETFROM:-0500
TZOFFSETTO:-0400
TZNAME:EDT
DTSTART:20200308T070000
END:DAYLIGHT
BEGIN:STANDARD
TZOFFSETFROM:-0400
TZOFFSETTO:-0500
TZNAME:EST
DTSTART:20201101T060000
END:STANDARD
BEGIN:DAYLIGHT
TZOFFSETFROM:-0500
TZOFFSETTO:-0400
TZNAME:EDT
DTSTART:20210314T070000
END:DAYLIGHT
BEGIN:STANDARD
TZOFFSETFROM:-0400
TZOFFSETTO:-0500
TZNAME:EST
DTSTART:20211107T060000
END:STANDARD
BEGIN:DAYLIGHT
TZOFFSETFROM:-0500
TZOFFSETTO:-0400
TZNAME:EDT
DTSTART:20220313T070000
END:DAYLIGHT
BEGIN:STANDARD
TZOFFSETFROM:-0400
TZOFFSETTO:-0500
TZNAME:EST
DTSTART:20221106T060000
END:STANDARD
END:VTIMEZONE
BEGIN:VEVENT
DTSTART;VALUE=DATE:20210329
DTEND;VALUE=DATE:20210330
DTSTAMP:20260420T211811
CREATED:20210321T221053Z
LAST-MODIFIED:20210321T221053Z
UID:10000134-1616976000-1617062399@www.scecina.org
SUMMARY:No School
DESCRIPTION:
URL:https://www.scecina.org/event/no-school/
END:VEVENT
BEGIN:VEVENT
DTSTART;VALUE=DATE:20210322
DTEND;VALUE=DATE:20210327
DTSTAMP:20260420T211811
CREATED:20190904T031731Z
LAST-MODIFIED:20190904T031731Z
UID:10000071-1616371200-1616803199@www.scecina.org
SUMMARY:Spring Break 2021
DESCRIPTION:
URL:https://www.scecina.org/event/spring-break/
END:VEVENT
BEGIN:VEVENT
DTSTART;VALUE=DATE:20210309
DTEND;VALUE=DATE:20210311
DTSTAMP:20260420T211811
CREATED:20210224T163020Z
LAST-MODIFIED:20210224T163020Z
UID:10000131-1615248000-1615420799@www.scecina.org
SUMMARY:Picture Days
DESCRIPTION:
URL:https://www.scecina.org/event/picture-days/
END:VEVENT
BEGIN:VEVENT
DTSTART;VALUE=DATE:20210309
DTEND;VALUE=DATE:20210311
DTSTAMP:20260420T211811
CREATED:20210219T202021Z
LAST-MODIFIED:20210219T202021Z
UID:10000130-1615248000-1615420799@www.scecina.org
SUMMARY:Picture Day
DESCRIPTION:
URL:https://www.scecina.org/event/picture-day/
END:VEVENT
BEGIN:VEVENT
DTSTART;VALUE=DATE:20210308
DTEND;VALUE=DATE:20210309
DTSTAMP:20260420T211811
CREATED:20210122T210020Z
LAST-MODIFIED:20210122T210020Z
UID:10000125-1615161600-1615247999@www.scecina.org
SUMMARY:Flex Learning Day
DESCRIPTION:
URL:https://www.scecina.org/event/flex-learning-day-2/
END:VEVENT
BEGIN:VEVENT
DTSTART;TZID=America/Indiana/Indianapolis:20210303T180000
DTEND;TZID=America/Indiana/Indianapolis:20210303T200000
DTSTAMP:20260420T211811
CREATED:20190904T030731Z
LAST-MODIFIED:20190904T030731Z
UID:10000061-1614794400-1614801600@www.scecina.org
SUMMARY:Curriculum Night
DESCRIPTION:An evening for enrolling students and their parents to request classes for the upcoming school year. You can register through your SchoolAdmin portal.   If you are unable to attend one of the scheduled Curriculum Nights\, please contact our Admissions Office for an appointment.
URL:https://www.scecina.org/event/curriculum-night-2/
END:VEVENT
BEGIN:VEVENT
DTSTART;TZID=America/Indiana/Indianapolis:20210224T180000
DTEND;TZID=America/Indiana/Indianapolis:20210224T200000
DTSTAMP:20260420T211811
CREATED:20210219T181128Z
LAST-MODIFIED:20210219T181128Z
UID:10000129-1614189600-1614196800@www.scecina.org
SUMMARY:Curriculum Night
DESCRIPTION:An evening for enrolling students and their parents to request classes for the upcoming school year. You can register through your SchoolAdmin portal.   If you are unable to attend one of the scheduled Curriculum Nights\, please contact our Admissions Office for an appointment.
URL:https://www.scecina.org/event/curriculum-night-4/
END:VEVENT
BEGIN:VEVENT
DTSTART;VALUE=DATE:20210215
DTEND;VALUE=DATE:20210216
DTSTAMP:20260420T211811
CREATED:20210122T205449Z
LAST-MODIFIED:20210122T205449Z
UID:10000123-1613347200-1613433599@www.scecina.org
SUMMARY:Presidents Day-No School
DESCRIPTION:
URL:https://www.scecina.org/event/presidents-day-no-school-2/
END:VEVENT
BEGIN:VEVENT
DTSTART;VALUE=DATE:20210208
DTEND;VALUE=DATE:20210209
DTSTAMP:20260420T211811
CREATED:20210122T205949Z
LAST-MODIFIED:20210122T205949Z
UID:10000124-1612742400-1612828799@www.scecina.org
SUMMARY:Flex Learning Day
DESCRIPTION:
URL:https://www.scecina.org/event/flex-learning-day/
END:VEVENT
BEGIN:VEVENT
DTSTART;VALUE=DATE:20210118
DTEND;VALUE=DATE:20210119
DTSTAMP:20260420T211811
CREATED:20210108T011226Z
LAST-MODIFIED:20210108T011226Z
UID:10000121-1610928000-1611014399@www.scecina.org
SUMMARY:Martin Luther King Jr. Day\, No School
DESCRIPTION:
URL:https://www.scecina.org/event/martin-luther-king-jr-day-no-school-2/
END:VEVENT
BEGIN:VEVENT
DTSTART;TZID=America/Indiana/Indianapolis:20210113T190000
DTEND;TZID=America/Indiana/Indianapolis:20210113T210000
DTSTAMP:20260420T211811
CREATED:20210108T011421Z
LAST-MODIFIED:20210108T011421Z
UID:10000122-1610564400-1610571600@www.scecina.org
SUMMARY:PSAT Report Interpretation
DESCRIPTION:
URL:https://www.scecina.org/event/psat-report-interpretation/
END:VEVENT
BEGIN:VEVENT
DTSTART;TZID=America/Indiana/Indianapolis:20201218T080000
DTEND;TZID=America/Indiana/Indianapolis:20210103T170000
DTSTAMP:20260420T211811
CREATED:20200709T014438Z
LAST-MODIFIED:20200709T014438Z
UID:10000116-1608278400-1609693200@www.scecina.org
SUMMARY:Christmas Break
DESCRIPTION:No classes. Classes resume Jan. 5
URL:https://www.scecina.org/event/christmas-break-2/
END:VEVENT
BEGIN:VEVENT
DTSTART;TZID=America/Indiana/Indianapolis:20201211T173000
DTEND;TZID=America/Indiana/Indianapolis:20201211T200000
DTSTAMP:20260420T211811
CREATED:20201203T233014Z
LAST-MODIFIED:20201203T233014Z
UID:10000120-1607707800-1607716800@www.scecina.org
SUMMARY:Drive-Through Christmas Celebration
DESCRIPTION:Come and join us for Christmas cheer at Scecina! Santa is coming from the North Pole to take a picture with your family in your own sleigh (car)! Scecina faculty and staff will welcome you to our Lane of Lights and Christmas music video. All are invited.  Free!
URL:https://www.scecina.org/event/drive-through-christmas-celebration/
END:VEVENT
BEGIN:VEVENT
DTSTART;TZID=America/Indiana/Indianapolis:20201126T080000
DTEND;TZID=America/Indiana/Indianapolis:20201127T170000
DTSTAMP:20260420T211811
CREATED:20200709T014347Z
LAST-MODIFIED:20200709T014347Z
UID:10000115-1606377600-1606496400@www.scecina.org
SUMMARY:Thanksgiving Break
DESCRIPTION:Happy Thanksgiving – No Classes
URL:https://www.scecina.org/event/thanksgiving-break/
CATEGORIES:Holiday/Vacation
END:VEVENT
BEGIN:VEVENT
DTSTART;TZID=America/Indiana/Indianapolis:20201115T080000
DTEND;TZID=America/Indiana/Indianapolis:20201121T170000
DTSTAMP:20260420T211811
CREATED:20200709T014300Z
LAST-MODIFIED:20200709T014300Z
UID:10000114-1605427200-1605978000@www.scecina.org
SUMMARY:Discover Catholic Schools Week
DESCRIPTION:
URL:https://www.scecina.org/event/discover-catholic-schools-week/
CATEGORIES:Special Event
END:VEVENT
BEGIN:VEVENT
DTSTART;TZID=America/Indiana/Indianapolis:20201029T080000
DTEND;TZID=America/Indiana/Indianapolis:20201029T170000
DTSTAMP:20260420T211811
CREATED:20200709T014058Z
LAST-MODIFIED:20200709T014058Z
UID:10000112-1603958400-1603990800@www.scecina.org
SUMMARY:PSAT/NMSQT Testing
DESCRIPTION:PSAT/NMSQT for juniors and sophomores \nSeniors and freshmen will be learning at home \n 
URL:https://www.scecina.org/event/psat/
CATEGORIES:Academic
END:VEVENT
BEGIN:VEVENT
DTSTART;TZID=America/Indiana/Indianapolis:20201028T190000
DTEND;TZID=America/Indiana/Indianapolis:20201028T192000
DTSTAMP:20260420T211811
CREATED:20201015T194117Z
LAST-MODIFIED:20201015T194117Z
UID:10000119-1603911600-1603912800@www.scecina.org
SUMMARY:Operation Homestretch Virtual Rally
DESCRIPTION:Everyone is invited to an online special event where Scecina will make a major announcement about its capital campaign.
URL:https://www.scecina.org/event/operation-homestretch-virtual-rally/
CATEGORIES:Special Event
END:VEVENT
BEGIN:VEVENT
DTSTART;TZID=America/Indiana/Indianapolis:20201026T170000
DTEND;TZID=America/Indiana/Indianapolis:20201030T170000
DTSTAMP:20260420T211811
CREATED:20200709T014018Z
LAST-MODIFIED:20200709T014018Z
UID:10000111-1603731600-1604077200@www.scecina.org
SUMMARY:Senior Retreat
DESCRIPTION:
URL:https://www.scecina.org/event/senior-retreat/
CATEGORIES:Special Event
END:VEVENT
BEGIN:VEVENT
DTSTART;TZID=America/Indiana/Indianapolis:20201012T080000
DTEND;TZID=America/Indiana/Indianapolis:20201016T170000
DTSTAMP:20260420T211811
CREATED:20200709T013928Z
LAST-MODIFIED:20200709T013928Z
UID:10000110-1602489600-1602867600@www.scecina.org
SUMMARY:Fall Break
DESCRIPTION:
URL:https://www.scecina.org/event/fall-break-2/
CATEGORIES:Holiday/Vacation
END:VEVENT
BEGIN:VEVENT
DTSTART;TZID=America/Indiana/Indianapolis:20201009T080000
DTEND;TZID=America/Indiana/Indianapolis:20201009T170000
DTSTAMP:20260420T211811
CREATED:20200709T013834Z
LAST-MODIFIED:20200709T013834Z
UID:10000109-1602230400-1602262800@www.scecina.org
SUMMARY:End of First Quarter
DESCRIPTION:
URL:https://www.scecina.org/event/end-of-first-quarter/
CATEGORIES:Academic
END:VEVENT
BEGIN:VEVENT
DTSTART;TZID=America/Indiana/Indianapolis:20201003T150000
DTEND;TZID=America/Indiana/Indianapolis:20201003T170000
DTSTAMP:20260420T211811
CREATED:20200929T133713Z
LAST-MODIFIED:20200929T133713Z
UID:10000118-1601737200-1601744400@www.scecina.org
SUMMARY:Powderpuff Football Game
DESCRIPTION:Homecoming Spirit Week Powderpuff Football game at Scecina’s football field. The senior/freshman team will play the junior/sophomore team.
URL:https://www.scecina.org/event/powderpuff-football-game/
CATEGORIES:Special Event
END:VEVENT
BEGIN:VEVENT
DTSTART;TZID=America/Indiana/Indianapolis:20201002T190000
DTEND;TZID=America/Indiana/Indianapolis:20201002T210000
DTSTAMP:20260420T211811
CREATED:20200923T111228Z
LAST-MODIFIED:20200923T111228Z
UID:10000117-1601665200-1601672400@www.scecina.org
SUMMARY:Homecoming
DESCRIPTION:Crusaders vs. Triton Central High School at Bishop Chatard. Kickoff\,  7:00 p.m
URL:https://www.scecina.org/event/homecoming-2/
END:VEVENT
BEGIN:VEVENT
DTSTART;TZID=America/Indiana/Indianapolis:20200925T190000
DTEND;TZID=America/Indiana/Indianapolis:20200925T210000
DTSTAMP:20260420T211811
CREATED:20201003T013541Z
LAST-MODIFIED:20201003T013541Z
UID:10000108-1601060400-1601067600@www.scecina.org
SUMMARY:Homecoming
DESCRIPTION:Crusaders  vs. Triton Central High School at Bishop Chatard. Kickoff\,  7:00 p.m
URL:https://www.scecina.org/event/homecoming/
END:VEVENT
BEGIN:VEVENT
DTSTART;VALUE=DATE:20200907
DTEND;VALUE=DATE:20200908
DTSTAMP:20260420T211811
CREATED:20200709T013217Z
LAST-MODIFIED:20200709T013217Z
UID:10000107-1599436800-1599523199@www.scecina.org
SUMMARY:Labor Day
DESCRIPTION:No Classes
URL:https://www.scecina.org/event/labor-day/
END:VEVENT
BEGIN:VEVENT
DTSTART;VALUE=DATE:20200815
DTEND;VALUE=DATE:20200816
DTSTAMP:20260420T211811
CREATED:20200709T012339Z
LAST-MODIFIED:20200709T012339Z
UID:10000106-1597449600-1597535999@www.scecina.org
SUMMARY:Assumption of the Blessed Virgin Mary
DESCRIPTION:
URL:https://www.scecina.org/event/assumption-of-the-blessed-virgin-mary/
END:VEVENT
BEGIN:VEVENT
DTSTART;TZID=America/Indiana/Indianapolis:20200810T073000
DTEND;TZID=America/Indiana/Indianapolis:20200810T150000
DTSTAMP:20260420T211811
CREATED:20200602T200620Z
LAST-MODIFIED:20200602T200620Z
UID:10000105-1597044600-1597071600@www.scecina.org
SUMMARY:First Day of School
DESCRIPTION:
URL:https://www.scecina.org/event/first-day-of-school/
END:VEVENT
BEGIN:VEVENT
DTSTART;VALUE=DATE:20200806
DTEND;VALUE=DATE:20200807
DTSTAMP:20260420T211811
CREATED:20200602T200426Z
LAST-MODIFIED:20200602T200426Z
UID:10000104-1596672000-1596758399@www.scecina.org
SUMMARY:New Student Orientation
DESCRIPTION:Two sessions: 11:00 – 2:00 and 4:00 – 7:00
URL:https://www.scecina.org/event/new-student-orientation/
END:VEVENT
BEGIN:VEVENT
DTSTART;TZID=America/Indiana/Indianapolis:20200716T090000
DTEND;TZID=America/Indiana/Indianapolis:20200716T100000
DTSTAMP:20260420T211811
CREATED:20190904T033017Z
LAST-MODIFIED:20190904T033017Z
UID:10000083-1594890000-1594893600@www.scecina.org
SUMMARY:Class of 2020 Commencement
DESCRIPTION:Scecina Memorial High School gymnasium
URL:https://www.scecina.org/event/class-of-2020-commencement/
END:VEVENT
BEGIN:VEVENT
DTSTART;TZID=America/Indiana/Indianapolis:20200708T080000
DTEND;TZID=America/Indiana/Indianapolis:20200708T170000
DTSTAMP:20260420T211811
CREATED:20200709T014140Z
LAST-MODIFIED:20200709T014140Z
UID:10000113-1594195200-1594227600@www.scecina.org
SUMMARY:Canned Food Drive starts
DESCRIPTION:Student Council Canned Food Drive- Oct. 30-Nov. 20
URL:https://www.scecina.org/event/canned-food-drive-starts-2/
CATEGORIES:Special Event
END:VEVENT
BEGIN:VEVENT
DTSTART;TZID=America/Indiana/Indianapolis:20200520T130000
DTEND;TZID=America/Indiana/Indianapolis:20200520T150000
DTSTAMP:20260420T211811
CREATED:20190904T032845Z
LAST-MODIFIED:20190904T032845Z
UID:10000082-1589979600-1589986800@www.scecina.org
SUMMARY:Senior Awards
DESCRIPTION:
URL:https://www.scecina.org/event/senior-awards/
END:VEVENT
END:VCALENDAR