BEGIN:VCALENDAR
VERSION:2.0
PRODID:-//Scecina Memorial High School - ECPv6.15.20//NONSGML v1.0//EN
CALSCALE:GREGORIAN
METHOD:PUBLISH
X-WR-CALNAME:Scecina Memorial High School
X-ORIGINAL-URL:https://www.scecina.org
X-WR-CALDESC:Events for Scecina Memorial High School
REFRESH-INTERVAL;VALUE=DURATION:PT1H
X-Robots-Tag:noindex
X-PUBLISHED-TTL:PT1H
BEGIN:VTIMEZONE
TZID:America/Indiana/Indianapolis
BEGIN:DAYLIGHT
TZOFFSETFROM:-0500
TZOFFSETTO:-0400
TZNAME:EDT
DTSTART:20190310T070000
END:DAYLIGHT
BEGIN:STANDARD
TZOFFSETFROM:-0400
TZOFFSETTO:-0500
TZNAME:EST
DTSTART:20191103T060000
END:STANDARD
BEGIN:DAYLIGHT
TZOFFSETFROM:-0500
TZOFFSETTO:-0400
TZNAME:EDT
DTSTART:20200308T070000
END:DAYLIGHT
BEGIN:STANDARD
TZOFFSETFROM:-0400
TZOFFSETTO:-0500
TZNAME:EST
DTSTART:20201101T060000
END:STANDARD
BEGIN:DAYLIGHT
TZOFFSETFROM:-0500
TZOFFSETTO:-0400
TZNAME:EDT
DTSTART:20210314T070000
END:DAYLIGHT
BEGIN:STANDARD
TZOFFSETFROM:-0400
TZOFFSETTO:-0500
TZNAME:EST
DTSTART:20211107T060000
END:STANDARD
END:VTIMEZONE
BEGIN:VEVENT
DTSTART;TZID=America/Indiana/Indianapolis:20200716T090000
DTEND;TZID=America/Indiana/Indianapolis:20200716T100000
DTSTAMP:20260421T014057
CREATED:20190904T033017Z
LAST-MODIFIED:20190904T033017Z
UID:10000083-1594890000-1594893600@www.scecina.org
SUMMARY:Class of 2020 Commencement
DESCRIPTION:Scecina Memorial High School gymnasium
URL:https://www.scecina.org/event/class-of-2020-commencement/
END:VEVENT
BEGIN:VEVENT
DTSTART;TZID=America/Indiana/Indianapolis:20200708T080000
DTEND;TZID=America/Indiana/Indianapolis:20200708T170000
DTSTAMP:20260421T014057
CREATED:20200709T014140Z
LAST-MODIFIED:20200709T014140Z
UID:10000113-1594195200-1594227600@www.scecina.org
SUMMARY:Canned Food Drive starts
DESCRIPTION:Student Council Canned Food Drive- Oct. 30-Nov. 20
URL:https://www.scecina.org/event/canned-food-drive-starts-2/
CATEGORIES:Special Event
END:VEVENT
BEGIN:VEVENT
DTSTART;TZID=America/Indiana/Indianapolis:20200520T130000
DTEND;TZID=America/Indiana/Indianapolis:20200520T150000
DTSTAMP:20260421T014057
CREATED:20190904T032845Z
LAST-MODIFIED:20190904T032845Z
UID:10000082-1589979600-1589986800@www.scecina.org
SUMMARY:Senior Awards
DESCRIPTION:
URL:https://www.scecina.org/event/senior-awards/
END:VEVENT
BEGIN:VEVENT
DTSTART;VALUE=DATE:20200518
DTEND;VALUE=DATE:20200523
DTSTAMP:20260421T014057
CREATED:20190904T032752Z
LAST-MODIFIED:20190904T032752Z
UID:10000081-1589760000-1590191999@www.scecina.org
SUMMARY:Finals Week
DESCRIPTION:
URL:https://www.scecina.org/event/finals-week/
END:VEVENT
BEGIN:VEVENT
DTSTART;VALUE=DATE:20200511
DTEND;VALUE=DATE:20200523
DTSTAMP:20260421T014057
CREATED:20190904T032516Z
LAST-MODIFIED:20190904T032516Z
UID:10000079-1589155200-1590191999@www.scecina.org
SUMMARY:Advanced Placement exams
DESCRIPTION:
URL:https://www.scecina.org/event/advanced-placement-exams/
END:VEVENT
BEGIN:VEVENT
DTSTART;TZID=America/Indiana/Indianapolis:20200510T150000
DTEND;TZID=America/Indiana/Indianapolis:20200510T160000
DTSTAMP:20260421T014057
CREATED:20190904T032614Z
LAST-MODIFIED:20190904T032614Z
UID:10000080-1589122800-1589126400@www.scecina.org
SUMMARY:Spring Music Concert
DESCRIPTION:
URL:https://www.scecina.org/event/spring-music-concert/
END:VEVENT
BEGIN:VEVENT
DTSTART;TZID=America/Indiana/Indianapolis:20200502T190000
DTEND;TZID=America/Indiana/Indianapolis:20200502T230000
DTSTAMP:20260421T014057
CREATED:20190904T032428Z
LAST-MODIFIED:20190904T032428Z
UID:10000078-1588446000-1588460400@www.scecina.org
SUMMARY:Prom
DESCRIPTION:
URL:https://www.scecina.org/event/prom/
END:VEVENT
BEGIN:VEVENT
DTSTART;VALUE=DATE:20200424
DTEND;VALUE=DATE:20200425
DTSTAMP:20260421T014057
CREATED:20190904T032135Z
LAST-MODIFIED:20190904T032135Z
UID:10000077-1587686400-1587772799@www.scecina.org
SUMMARY:Underclassman Retreats
DESCRIPTION:
URL:https://www.scecina.org/event/underclassman-retreats/
END:VEVENT
BEGIN:VEVENT
DTSTART;TZID=America/Indiana/Indianapolis:20200423T080000
DTEND;TZID=America/Indiana/Indianapolis:20200424T150000
DTSTAMP:20260421T014057
CREATED:20190904T032108Z
LAST-MODIFIED:20190904T032108Z
UID:10000076-1587628800-1587740400@www.scecina.org
SUMMARY:Junior Retreats
DESCRIPTION:
URL:https://www.scecina.org/event/junior-retreats/
END:VEVENT
BEGIN:VEVENT
DTSTART;TZID=America/Indiana/Indianapolis:20200420T190000
DTEND;TZID=America/Indiana/Indianapolis:20200420T200000
DTSTAMP:20260421T014057
CREATED:20200220T173310Z
LAST-MODIFIED:20200220T173310Z
UID:10000102-1587409200-1587412800@www.scecina.org
SUMMARY:President's Academic Excellence Awards
DESCRIPTION:
URL:https://www.scecina.org/event/presidents-academic-excellence-awards/
END:VEVENT
BEGIN:VEVENT
DTSTART;TZID=America/Indiana/Indianapolis:20200419T150000
DTEND;TZID=America/Indiana/Indianapolis:20200419T160000
DTSTAMP:20260421T014057
CREATED:20200123T214823Z
LAST-MODIFIED:20200123T214823Z
UID:10000099-1587308400-1587312000@www.scecina.org
SUMMARY:New Horizons Band Concert
DESCRIPTION:
URL:https://www.scecina.org/event/new-horizons-band-concert/
END:VEVENT
BEGIN:VEVENT
DTSTART;TZID=America/Indiana/Indianapolis:20200417T080000
DTEND;TZID=America/Indiana/Indianapolis:20200417T170000
DTSTAMP:20260421T014057
CREATED:20190827T012952Z
LAST-MODIFIED:20190827T012952Z
UID:10000021-1587110400-1587142800@www.scecina.org
SUMMARY:Crazy Friday
DESCRIPTION:
URL:https://www.scecina.org/event/crazy-friday-8/
CATEGORIES:Academic
END:VEVENT
BEGIN:VEVENT
DTSTART;VALUE=DATE:20200413
DTEND;VALUE=DATE:20200414
DTSTAMP:20260421T014057
CREATED:20190904T032023Z
LAST-MODIFIED:20190904T032023Z
UID:10000075-1586736000-1586822399@www.scecina.org
SUMMARY:Easter Monday-No School
DESCRIPTION:
URL:https://www.scecina.org/event/easter-monday-no-school/
END:VEVENT
BEGIN:VEVENT
DTSTART;VALUE=DATE:20200412
DTEND;VALUE=DATE:20200413
DTSTAMP:20260421T014057
CREATED:20190904T031958Z
LAST-MODIFIED:20190904T031958Z
UID:10000074-1586649600-1586735999@www.scecina.org
SUMMARY:Easter
DESCRIPTION:
URL:https://www.scecina.org/event/easter/
END:VEVENT
BEGIN:VEVENT
DTSTART;TZID=America/Indiana/Indianapolis:20200410T073000
DTEND;TZID=America/Indiana/Indianapolis:20200410T135000
DTSTAMP:20260421T014057
CREATED:20190904T031926Z
LAST-MODIFIED:20190904T031926Z
UID:10000073-1586503800-1586526600@www.scecina.org
SUMMARY:Good Friday
DESCRIPTION:Early Dismissal at 1:50 p.m.
URL:https://www.scecina.org/event/good-friday/
END:VEVENT
BEGIN:VEVENT
DTSTART;VALUE=DATE:20200409
DTEND;VALUE=DATE:20200410
DTSTAMP:20260421T014057
CREATED:20190904T031821Z
LAST-MODIFIED:20190904T031821Z
UID:10000072-1586390400-1586476799@www.scecina.org
SUMMARY:Holy Thursday
DESCRIPTION:Activities end by 5 p.m.
URL:https://www.scecina.org/event/holy-thursday/
END:VEVENT
BEGIN:VEVENT
DTSTART;TZID=America/Indiana/Indianapolis:20200323T093000
DTEND;TZID=America/Indiana/Indianapolis:20200323T150000
DTSTAMP:20260421T014057
CREATED:20190904T031545Z
LAST-MODIFIED:20190904T031545Z
UID:10000070-1584955800-1584975600@www.scecina.org
SUMMARY:Late Arrival - 9:30 a.m. - Professional Development
DESCRIPTION:
URL:https://www.scecina.org/event/late-arrival-930-a-m-professional-development-2/
END:VEVENT
BEGIN:VEVENT
DTSTART;TZID=America/Indiana/Indianapolis:20200321T190000
DTEND;TZID=America/Indiana/Indianapolis:20200321T210000
DTSTAMP:20260421T014057
CREATED:20190904T031345Z
LAST-MODIFIED:20190904T031345Z
UID:10000068-1584817200-1584824400@www.scecina.org
SUMMARY:Spring Musical
DESCRIPTION:
URL:https://www.scecina.org/event/spring-musical-2/
END:VEVENT
BEGIN:VEVENT
DTSTART;TZID=America/Indiana/Indianapolis:20200321T080000
DTEND;TZID=America/Indiana/Indianapolis:20200321T170000
DTSTAMP:20260421T014057
CREATED:20190904T031438Z
LAST-MODIFIED:20190904T031438Z
UID:10000069-1584777600-1584810000@www.scecina.org
SUMMARY:Admissions Day
DESCRIPTION:
URL:https://www.scecina.org/event/admissions-day/
END:VEVENT
BEGIN:VEVENT
DTSTART;TZID=America/Indiana/Indianapolis:20200320T070000
DTEND;TZID=America/Indiana/Indianapolis:20200320T210000
DTSTAMP:20260421T014057
CREATED:20190904T031315Z
LAST-MODIFIED:20190904T031315Z
UID:10000067-1584687600-1584738000@www.scecina.org
SUMMARY:Spring Musical
DESCRIPTION:
URL:https://www.scecina.org/event/spring-musical/
END:VEVENT
BEGIN:VEVENT
DTSTART;TZID=America/Indiana/Indianapolis:20200317T080000
DTEND;TZID=America/Indiana/Indianapolis:20200317T170000
DTSTAMP:20260421T014057
CREATED:20190904T031227Z
LAST-MODIFIED:20190904T031227Z
UID:10000066-1584432000-1584464400@www.scecina.org
SUMMARY:Early Registration Deadline
DESCRIPTION:Deadline to register for reduced registration fee
URL:https://www.scecina.org/event/early-registration-deadline/
END:VEVENT
BEGIN:VEVENT
DTSTART;TZID=America/Indiana/Indianapolis:20200316T170000
DTEND;TZID=America/Indiana/Indianapolis:20200316T190000
DTSTAMP:20260421T014057
CREATED:20190904T031115Z
LAST-MODIFIED:20190904T031115Z
UID:10000065-1584378000-1584385200@www.scecina.org
SUMMARY:Progress Report Night
DESCRIPTION:
URL:https://www.scecina.org/event/progress-report-night-2/
END:VEVENT
BEGIN:VEVENT
DTSTART;TZID=America/Indiana/Indianapolis:20200309T190000
DTEND;TZID=America/Indiana/Indianapolis:20200309T200000
DTSTAMP:20260421T014057
CREATED:20190904T031005Z
LAST-MODIFIED:20190904T031005Z
UID:10000064-1583780400-1583784000@www.scecina.org
SUMMARY:Scholar Athlete Event
DESCRIPTION:
URL:https://www.scecina.org/event/scholar-athlete-award/
END:VEVENT
BEGIN:VEVENT
DTSTART;TZID=America/Indiana/Indianapolis:20200306T080000
DTEND;TZID=America/Indiana/Indianapolis:20200306T170000
DTSTAMP:20260421T014057
CREATED:20190904T030856Z
LAST-MODIFIED:20190904T030856Z
UID:10000063-1583481600-1583514000@www.scecina.org
SUMMARY:End of third quarter
DESCRIPTION:
URL:https://www.scecina.org/event/end-of-third-quarter/
END:VEVENT
BEGIN:VEVENT
DTSTART;TZID=America/Indiana/Indianapolis:20200306T080000
DTEND;TZID=America/Indiana/Indianapolis:20200306T170000
DTSTAMP:20260421T014057
CREATED:20190827T012910Z
LAST-MODIFIED:20190827T012910Z
UID:10000020-1583481600-1583514000@www.scecina.org
SUMMARY:Crazy Friday
DESCRIPTION:
URL:https://www.scecina.org/event/crazy-friday-7/
CATEGORIES:Academic
END:VEVENT
BEGIN:VEVENT
DTSTART;TZID=America/Indiana/Indianapolis:20200305T080000
DTEND;TZID=America/Indiana/Indianapolis:20200305T150000
DTSTAMP:20260421T014057
CREATED:20190904T030820Z
LAST-MODIFIED:20190904T030820Z
UID:10000062-1583395200-1583420400@www.scecina.org
SUMMARY:Sophomore Hearing Screening
DESCRIPTION:
URL:https://www.scecina.org/event/sophomore-hearing-screening/
END:VEVENT
BEGIN:VEVENT
DTSTART;TZID=America/Indiana/Indianapolis:20200303T190000
DTEND;TZID=America/Indiana/Indianapolis:20200303T190000
DTSTAMP:20260421T014057
CREATED:20200302T165832Z
LAST-MODIFIED:20200302T165832Z
UID:10000103-1583262000-1583262000@www.scecina.org
SUMMARY:IHSAA Boys Basketball Sectional
DESCRIPTION:First round: Scecina vs. University
URL:https://www.scecina.org/event/ihsaa-boys-basketball-sectional/
END:VEVENT
BEGIN:VEVENT
DTSTART;TZID=America/Indiana/Indianapolis:20200302T190000
DTEND;TZID=America/Indiana/Indianapolis:20200302T200000
DTSTAMP:20260421T014057
CREATED:20190904T030644Z
LAST-MODIFIED:20190904T030644Z
UID:10000060-1583175600-1583179200@www.scecina.org
SUMMARY:Winter Sports Awards
DESCRIPTION:
URL:https://www.scecina.org/event/winter-sports-awards/
END:VEVENT
BEGIN:VEVENT
DTSTART;TZID=America/Indiana/Indianapolis:20200229T070000
DTEND;TZID=America/Indiana/Indianapolis:20200229T170000
DTSTAMP:20260421T014057
CREATED:20191230T162256Z
LAST-MODIFIED:20191230T162256Z
UID:10000095-1582959600-1582995600@www.scecina.org
SUMMARY:McClellan Tournament
DESCRIPTION:East Side Crusader Wrestling
URL:https://www.scecina.org/event/mcclellan-tournament/
END:VEVENT
BEGIN:VEVENT
DTSTART;TZID=America/Indiana/Indianapolis:20200228T073000
DTEND;TZID=America/Indiana/Indianapolis:20200228T150000
DTSTAMP:20260421T014057
CREATED:20200219T164608Z
LAST-MODIFIED:20200219T164608Z
UID:10000101-1582875000-1582902000@www.scecina.org
SUMMARY:Silly Safaris
DESCRIPTION:Science classes throughout day attend Silly Safaris show in the gym. The Silly Safaris mission is to create positive human-animal interactions that inspire responsible pet ownership and wild animal conservation.
URL:https://www.scecina.org/event/silly-safaris/
END:VEVENT
END:VCALENDAR