BEGIN:VCALENDAR
VERSION:2.0
PRODID:-//Scecina Memorial High School - ECPv6.15.20//NONSGML v1.0//EN
CALSCALE:GREGORIAN
METHOD:PUBLISH
X-WR-CALNAME:Scecina Memorial High School
X-ORIGINAL-URL:https://www.scecina.org
X-WR-CALDESC:Events for Scecina Memorial High School
REFRESH-INTERVAL;VALUE=DURATION:PT1H
X-Robots-Tag:noindex
X-PUBLISHED-TTL:PT1H
BEGIN:VTIMEZONE
TZID:America/Indiana/Indianapolis
BEGIN:DAYLIGHT
TZOFFSETFROM:-0500
TZOFFSETTO:-0400
TZNAME:EDT
DTSTART:20180311T070000
END:DAYLIGHT
BEGIN:STANDARD
TZOFFSETFROM:-0400
TZOFFSETTO:-0500
TZNAME:EST
DTSTART:20181104T060000
END:STANDARD
BEGIN:DAYLIGHT
TZOFFSETFROM:-0500
TZOFFSETTO:-0400
TZNAME:EDT
DTSTART:20190310T070000
END:DAYLIGHT
BEGIN:STANDARD
TZOFFSETFROM:-0400
TZOFFSETTO:-0500
TZNAME:EST
DTSTART:20191103T060000
END:STANDARD
BEGIN:DAYLIGHT
TZOFFSETFROM:-0500
TZOFFSETTO:-0400
TZNAME:EDT
DTSTART:20200308T070000
END:DAYLIGHT
BEGIN:STANDARD
TZOFFSETFROM:-0400
TZOFFSETTO:-0500
TZNAME:EST
DTSTART:20201101T060000
END:STANDARD
END:VTIMEZONE
BEGIN:VTIMEZONE
TZID:America/New_York
BEGIN:DAYLIGHT
TZOFFSETFROM:-0500
TZOFFSETTO:-0400
TZNAME:EDT
DTSTART:20180311T070000
END:DAYLIGHT
BEGIN:STANDARD
TZOFFSETFROM:-0400
TZOFFSETTO:-0500
TZNAME:EST
DTSTART:20181104T060000
END:STANDARD
BEGIN:DAYLIGHT
TZOFFSETFROM:-0500
TZOFFSETTO:-0400
TZNAME:EDT
DTSTART:20190310T070000
END:DAYLIGHT
BEGIN:STANDARD
TZOFFSETFROM:-0400
TZOFFSETTO:-0500
TZNAME:EST
DTSTART:20191103T060000
END:STANDARD
BEGIN:DAYLIGHT
TZOFFSETFROM:-0500
TZOFFSETTO:-0400
TZNAME:EDT
DTSTART:20200308T070000
END:DAYLIGHT
BEGIN:STANDARD
TZOFFSETFROM:-0400
TZOFFSETTO:-0500
TZNAME:EST
DTSTART:20201101T060000
END:STANDARD
END:VTIMEZONE
BEGIN:VEVENT
DTSTART;VALUE=DATE:20190910
DTEND;VALUE=DATE:20190911
DTSTAMP:20260422T063747
CREATED:20190822T223724Z
LAST-MODIFIED:20190822T223724Z
UID:10000005-1568073600-1568159999@www.scecina.org
SUMMARY:Underclassman photos
DESCRIPTION:
URL:https://www.scecina.org/event/underclassman-photos/
CATEGORIES:Academic
END:VEVENT
BEGIN:VEVENT
DTSTART;TZID=America/New_York:20190909T180000
DTEND;TZID=America/New_York:20190909T200000
DTSTAMP:20260422T063747
CREATED:20190815T231247Z
LAST-MODIFIED:20190815T231247Z
UID:10000002-1568052000-1568059200@www.scecina.org
SUMMARY:College Planning Night
DESCRIPTION:
URL:https://www.scecina.org/event/college-planning-night/
CATEGORIES:Academic
END:VEVENT
BEGIN:VEVENT
DTSTART;TZID=America/Indiana/Indianapolis:20190909T073000
DTEND;TZID=America/Indiana/Indianapolis:20190909T150500
DTSTAMP:20260422T063747
CREATED:20190905T224039Z
LAST-MODIFIED:20190905T224039Z
UID:10000084-1568014200-1568041500@www.scecina.org
SUMMARY:Activity schedule
DESCRIPTION:Service Capstone/Hours Presentation and Herff Jones for seniors
URL:https://www.scecina.org/event/activity-schedule/
END:VEVENT
BEGIN:VEVENT
DTSTART;TZID=America/Indiana/Indianapolis:20190906T210000
DTEND;TZID=America/Indiana/Indianapolis:20190906T230000
DTSTAMP:20260422T063747
CREATED:20190822T223604Z
LAST-MODIFIED:20190822T223604Z
UID:10000004-1567803600-1567810800@www.scecina.org
SUMMARY:Homecoming "Blockhouse Bash"
DESCRIPTION:
URL:https://www.scecina.org/event/homecoming-game-and-dance/
CATEGORIES:Academic
END:VEVENT
BEGIN:VEVENT
DTSTART;TZID=America/Indiana/Indianapolis:20190906T190000
DTEND;TZID=America/Indiana/Indianapolis:20190906T210000
DTSTAMP:20260422T063747
CREATED:20190827T013652Z
LAST-MODIFIED:20190827T013652Z
UID:10000023-1567796400-1567803600@www.scecina.org
SUMMARY:Homecoming football game
DESCRIPTION:
URL:https://www.scecina.org/event/homecoming-football-game/
CATEGORIES:Academic
END:VEVENT
BEGIN:VEVENT
DTSTART;TZID=America/New_York:20190906T173000
DTEND;TZID=America/New_York:20190906T190000
DTSTAMP:20260422T063747
CREATED:20190815T231629Z
LAST-MODIFIED:20190815T231629Z
UID:10000003-1567791000-1567796400@www.scecina.org
SUMMARY:Homecoming Tailgate - 5:30 p.m. Manual High School
DESCRIPTION:Scecina’s Homecoming Tailgate – Cookout by Athletics Department\, sponsored by Steer-In
URL:https://www.scecina.org/event/homecoming-tailgate-530-p-m-manual-high-school/
CATEGORIES:Academic
END:VEVENT
BEGIN:VEVENT
DTSTART;TZID=America/Indiana/Indianapolis:20190828T180000
DTEND;TZID=America/Indiana/Indianapolis:20190828T190000
DTSTAMP:20260422T063747
CREATED:20190827T013424Z
LAST-MODIFIED:20190827T013424Z
UID:10000022-1567015200-1567018800@www.scecina.org
SUMMARY:Panama Trip Parent Meeting
DESCRIPTION:Room 11. Please enter the school through Door 2.
URL:https://www.scecina.org/event/panama-trip-parent-meeting/
END:VEVENT
END:VCALENDAR