BEGIN:VCALENDAR
VERSION:2.0
PRODID:-//Scecina Memorial High School - ECPv6.15.20//NONSGML v1.0//EN
CALSCALE:GREGORIAN
METHOD:PUBLISH
X-WR-CALNAME:Scecina Memorial High School
X-ORIGINAL-URL:https://www.scecina.org
X-WR-CALDESC:Events for Scecina Memorial High School
REFRESH-INTERVAL;VALUE=DURATION:PT1H
X-Robots-Tag:noindex
X-PUBLISHED-TTL:PT1H
BEGIN:VTIMEZONE
TZID:America/Indiana/Indianapolis
BEGIN:DAYLIGHT
TZOFFSETFROM:-0500
TZOFFSETTO:-0400
TZNAME:EDT
DTSTART:20240310T070000
END:DAYLIGHT
BEGIN:STANDARD
TZOFFSETFROM:-0400
TZOFFSETTO:-0500
TZNAME:EST
DTSTART:20241103T060000
END:STANDARD
BEGIN:DAYLIGHT
TZOFFSETFROM:-0500
TZOFFSETTO:-0400
TZNAME:EDT
DTSTART:20250309T070000
END:DAYLIGHT
BEGIN:STANDARD
TZOFFSETFROM:-0400
TZOFFSETTO:-0500
TZNAME:EST
DTSTART:20251102T060000
END:STANDARD
BEGIN:DAYLIGHT
TZOFFSETFROM:-0500
TZOFFSETTO:-0400
TZNAME:EDT
DTSTART:20260308T070000
END:DAYLIGHT
BEGIN:STANDARD
TZOFFSETFROM:-0400
TZOFFSETTO:-0500
TZNAME:EST
DTSTART:20261101T060000
END:STANDARD
END:VTIMEZONE
BEGIN:VEVENT
DTSTART;VALUE=DATE:20250501
DTEND;VALUE=DATE:20250502
DTSTAMP:20260423T054418
CREATED:20250408T203126Z
LAST-MODIFIED:20250408T203126Z
UID:10000509-1746057600-1746143999@www.scecina.org
SUMMARY:Scholar Athlete Awards
DESCRIPTION:More information to come!
URL:https://www.scecina.org/event/scholar-athlete-awards-3/
END:VEVENT
BEGIN:VEVENT
DTSTART;VALUE=DATE:20250505
DTEND;VALUE=DATE:20250510
DTSTAMP:20260423T054418
CREATED:20250502T224834Z
LAST-MODIFIED:20250502T224834Z
UID:10000510-1746403200-1746835199@www.scecina.org
SUMMARY:Teacher Appreciation Week!
DESCRIPTION:
URL:https://www.scecina.org/event/teacher-appreciation-week/
END:VEVENT
BEGIN:VEVENT
DTSTART;VALUE=DATE:20250505
DTEND;VALUE=DATE:20250506
DTSTAMP:20260423T054418
CREATED:20250502T234126Z
LAST-MODIFIED:20250502T234126Z
UID:10000512-1746403200-1746489599@www.scecina.org
SUMMARY:Spring Music Concert
DESCRIPTION:Join us in the Scecina Gymnasium at 7 p.m.
URL:https://www.scecina.org/event/spring-music-concert-4/
END:VEVENT
BEGIN:VEVENT
DTSTART;VALUE=DATE:20250505
DTEND;VALUE=DATE:20250517
DTSTAMP:20260423T054418
CREATED:20250502T224939Z
LAST-MODIFIED:20250502T224939Z
UID:10000511-1746403200-1747439999@www.scecina.org
SUMMARY:AP Testing Window
DESCRIPTION:
URL:https://www.scecina.org/event/ap-testing-window-2/
END:VEVENT
BEGIN:VEVENT
DTSTART;VALUE=DATE:20250512
DTEND;VALUE=DATE:20250517
DTSTAMP:20260423T054418
CREATED:20250507T151739Z
LAST-MODIFIED:20250507T151739Z
UID:10000513-1747008000-1747439999@www.scecina.org
SUMMARY:Senior Final Exams
DESCRIPTION:Follow this link for more information about the final exam schedule and more information for the Class of 2025: scecina.org/academics/commencement/
URL:https://www.scecina.org/event/senior-final-exams/
END:VEVENT
BEGIN:VEVENT
DTSTART;VALUE=DATE:20250516
DTEND;VALUE=DATE:20250517
DTSTAMP:20260423T054418
CREATED:20250507T151827Z
LAST-MODIFIED:20250507T151827Z
UID:10000514-1747353600-1747439999@www.scecina.org
SUMMARY:Campus Crusade
DESCRIPTION:
URL:https://www.scecina.org/event/campus-crusade-4/
END:VEVENT
BEGIN:VEVENT
DTSTART;VALUE=DATE:20250519
DTEND;VALUE=DATE:20250524
DTSTAMP:20260423T054418
CREATED:20250514T221543Z
LAST-MODIFIED:20250514T221543Z
UID:10000515-1747612800-1748044799@www.scecina.org
SUMMARY:Underclass Final Exams
DESCRIPTION:Final Exam Week: Monday\, May 19 – Thursday\, May 22 \n\n\nBreakfast will be served each day \n\n\nLunch will be served only on Wednesday\, May 21 \n\n\nStudents will be dismissed at 12:00 PM on: \n\n\nMonday\, May 19 \n\n\nTuesday\, May 20 \n\n\nThursday\, May 22 \n\n\n\n\nThere will be no study hall during exam week \n\n\nAll students must leave campus immediately after dismissal
URL:https://www.scecina.org/event/underclass-final-exams/
END:VEVENT
BEGIN:VEVENT
DTSTART;VALUE=DATE:20250521
DTEND;VALUE=DATE:20250522
DTSTAMP:20260423T054418
CREATED:20250514T221725Z
LAST-MODIFIED:20250514T221725Z
UID:10000516-1747785600-1747871999@www.scecina.org
SUMMARY:Senior Awards Day
DESCRIPTION:Wednesday\, May 21 -Senior Awards Day \n\nThe Class of 2025 will receive recognition for a variety of accomplishments. Students should wear their gowns (no caps) and stoles\, if they have been previously approved\, with the dress code listed below.\nSeniors should arrive at Scecina no later than 12:30 p.m. and report to the cafeteria. A senior class picture will be taken on the front steps of the school at 12:40 p.m. After the picture\, a Walk of Fame through the halls of the school will be held before the Awards Ceremony.\n\n**Please note that this event is a mandatory event for seniors and a dress-up event. All seniors should wear dress shoes\, if possible. Boys are to be clean shaven and dressed in a collared shirt (with a tie if one chooses) and school uniform or dress pants.  Girls are to be dressed in a blouse and school uniform or dress pants or dress-code approved length skirt or dress.  The Awards Ceremony begins at 1:15 and will last until approximately 2:30. All senior parents and guardians are welcomed and encouraged to attend.
URL:https://www.scecina.org/event/senior-awards-day-3/
END:VEVENT
BEGIN:VEVENT
DTSTART;VALUE=DATE:20250522
DTEND;VALUE=DATE:20250523
DTSTAMP:20260423T054418
CREATED:20250514T222104Z
LAST-MODIFIED:20250514T222104Z
UID:10000517-1747872000-1747958399@www.scecina.org
SUMMARY:Baccalaureate Mass at Little Flower Church
DESCRIPTION:Thursday\, May 22 – Baccalaureate Mass and Rehearsal \n\nBoth the rehearsal and the Baccalaureate Mass will be held at Little Flower Catholic Church (4720 E 13th St\, Indianapolis\, IN 46201).\nBaccalaureate rehearsal is a mandatory event for seniors. Seniors should arrive by 8:45 a.m. and park in the school parking lot. Dress is casual (though appropriate for being in a church) and rehearsal should be completed by 10:00 a.m. Seniors are to arrange their own transportation to and from Little Flower.  If self-transportation is a challenge\, please notify us well in advance and we will make arrangements with you.\nBaccalaureate Mass is a required dress-up event with gowns (no caps). Students should arrive at Little Flower by 6:00 p.m. Mass begins at 7:00 p.m. Family members and friends are invited to attend.
URL:https://www.scecina.org/event/baccalaureate-mass-at-little-flower-church/
END:VEVENT
BEGIN:VEVENT
DTSTART;TZID=America/Indiana/Indianapolis:20250523T190000
DTEND;TZID=America/Indiana/Indianapolis:20250523T210000
DTSTAMP:20260423T054418
CREATED:20250514T223056Z
LAST-MODIFIED:20250514T223056Z
UID:10000518-1748026800-1748034000@www.scecina.org
SUMMARY:Class of 2025 Commencement
DESCRIPTION:
URL:https://www.scecina.org/event/class-of-2025-commencement/
END:VEVENT
END:VCALENDAR